BEGIN:VCALENDAR
VERSION:2.0
PRODID:-//MisterSaxr.ch | saxophonist-LIVE.ch | Blog | Firmenanlass Hochzeiten Events Saxofonist Musiker Saxophonist Schweiz Z&uuml;rich - ECPv6.15.8//NONSGML v1.0//EN
CALSCALE:GREGORIAN
METHOD:PUBLISH
X-ORIGINAL-URL:https://www.saxophonist-live.ch/saxofonist-blog
X-WR-CALDESC:Veranstaltungen für MisterSaxr.ch | saxophonist-LIVE.ch | Blog | Firmenanlass Hochzeiten Events Saxofonist Musiker Saxophonist Schweiz Z&uuml;rich
REFRESH-INTERVAL;VALUE=DURATION:PT1H
X-Robots-Tag:noindex
X-PUBLISHED-TTL:PT1H
BEGIN:VTIMEZONE
TZID:Europe/Zurich
BEGIN:DAYLIGHT
TZOFFSETFROM:+0100
TZOFFSETTO:+0200
TZNAME:CEST
DTSTART:20230326T010000
END:DAYLIGHT
BEGIN:STANDARD
TZOFFSETFROM:+0200
TZOFFSETTO:+0100
TZNAME:CET
DTSTART:20231029T010000
END:STANDARD
BEGIN:DAYLIGHT
TZOFFSETFROM:+0100
TZOFFSETTO:+0200
TZNAME:CEST
DTSTART:20240331T010000
END:DAYLIGHT
BEGIN:STANDARD
TZOFFSETFROM:+0200
TZOFFSETTO:+0100
TZNAME:CET
DTSTART:20241027T010000
END:STANDARD
BEGIN:DAYLIGHT
TZOFFSETFROM:+0100
TZOFFSETTO:+0200
TZNAME:CEST
DTSTART:20250330T010000
END:DAYLIGHT
BEGIN:STANDARD
TZOFFSETFROM:+0200
TZOFFSETTO:+0100
TZNAME:CET
DTSTART:20251026T010000
END:STANDARD
END:VTIMEZONE
BEGIN:VEVENT
DTSTART;TZID=Europe/Zurich:20240324T113000
DTEND;TZID=Europe/Zurich:20240324T160000
DTSTAMP:20260423T193357
CREATED:20240304T124946Z
LAST-MODIFIED:20240304T124952Z
UID:3776-1711279800-1711296000@www.saxophonist-live.ch
SUMMARY:Autoshow 2024 @ Garage Bühlmann
DESCRIPTION:Wie bereits am Samstag tritt der leidenschaftliche Saxophonist Mister Saxr an der Autoausstellung\, am Standort der Garage H. Bühlmann AG\, in Winterthur-Töss auf. \nMister Saxr wird bis 16 Uhr für eine musikalische Umrahmung der Ausstellung sorgen. Ein begnadeter Saxophonist\, der bereits seit vielen Jahren leidenschaftlich musiziert. Als er sein allererstes Saxophon geschenkt bekam\, hatte er keine Ahnung\, welchen besonderen Schatz er in den Händen hielt – es war ein Selmer Mark VI. Dieses legendäre Instrument begleitet Mister Saxr seither auf all seinen musikalischen Abenteuern und hat ihm ermöglicht\, seinen einzigartigen Klang und Stil zu entwickeln. Durch die herausragende Qualität und Handwerkskunst des Mark VI hat Mister Saxr eine unglaubliche Resonanz und perfekte Intonation erreicht\, die es ihm ermöglicht\, seine Emotionen und seine musikalische Kreativität auszudrücken. \nDas Besondere an Mister Saxr ist sein musikalisches Gespür\, welche Musik wie gespielt zu welchem Anlass am besten passt. Er stellt seine Leidenschaft für das Saxophon und für die Musik ganz in den Dienst Ihrer Gäste. Mal bleibt Mister Saxr dezent im Hintergrund. Mal ist er Bestandteil der Veranstaltung. Etwa\, wenn er als Walking-Act spielend durchs Publikum spaziert und so z.B. während eines Gala-Dinners einen ganz besonderen musikalischen Gang serviert. Ob laut oder leise\, schnell oder langsam\, ob Pop\, Jazz\, R&B oder Dance-Hits\, mit Mister Saxr haben Sie den richtigen Mann für besondere Stunden. \nDie Garage H. Bühlmann AG in Winterthur ist mehr als nur eine Autohandlung – sie ist eine Institution für Autofahrer und Enthusiasten in der Region. Seit Jahren steht das Unternehmen für erstklassigen Service\, Fachkompetenz und eine breite Palette an Automobilangeboten. \nAls etablierter Händler bietet die Garage H. Bühlmann AG eine vielfältige Auswahl an neuen und gebrauchten Fahrzeugen verschiedener Marken und Modelle. Egal\, ob Sie auf der Suche nach einem zuverlässigen Familienwagen\, einem luxuriösen Geschäftsauto oder einem spritzigen Sportwagen sind – hier werden Sie fündig. \nDoch die Garage H. Bühlmann AG bietet mehr als nur den Verkauf von Autos. Mit ihrem professionellen Werkstattservice\, qualifizierten Mechanikern und modernster Ausstattung ist sie auch die erste Anlaufstelle für Reparaturen\, Wartungen und Inspektionen aller Art. \nDarüber hinaus legt das Team von Garage H. Bühlmann AG grossen Wert auf Kundenzufriedenheit und persönliche Beratung. Die freundlichen Mitarbeiter stehen Ihnen jederzeit mit Rat und Tat zur Seite und helfen Ihnen dabei\, das perfekte Fahrzeug für Ihre Bedürfnisse zu finden. \nInsgesamt ist die Garage H. Bühlmann AG eine vertrauenswürdige Adresse für alle Autofahrer in Winterthur und Umgebung. Mit ihrem umfassenden Serviceangebot und ihrer langjährigen Erfahrung ist sie die erste Wahl für alle\, die Wert auf Qualität und Zuverlässigkeit legen. \nEin Ausflug nach Winterthur lohnt sich also nicht nur für Interessenten der Automobilbranche\, besonders Liebhaber der schönen Klänge kommen ganz sicher auf ihre Kosten. Die H. Bühlmann AG wie auch Mister Saxr freuen sich auf zahlreiche Besucher. \nSeien Sie dabei und erleben Sie die Zukunft der Automobilindustrie auf der Autoshow 2024 in Winterthur – ein Event\, das Sie nicht verpassen sollten!
URL:https://www.saxophonist-live.ch/saxofonist-blog/event/autoshow-2024-garage-buehlmann/
LOCATION:Garage H. Bühlmann\, Steigstrasse 8\, Winterthur\, Zürich\, 8406\, Schweiz
CATEGORIES:MisterSaxr Event
ATTACH;FMTTYPE=image/jpeg:https://www.saxophonist-live.ch/saxofonist-blog/wp-content/uploads/2023/03/Mister-Saxr_Zürich.jpg
END:VEVENT
END:VCALENDAR