BEGIN:VCALENDAR
VERSION:2.0
PRODID:-//MisterSaxr.ch | saxophonist-LIVE.ch | Blog | Firmenanlass Hochzeiten Events Saxofonist Musiker Saxophonist Schweiz Z&uuml;rich - ECPv6.15.8//NONSGML v1.0//EN
CALSCALE:GREGORIAN
METHOD:PUBLISH
X-WR-CALNAME:MisterSaxr.ch | saxophonist-LIVE.ch | Blog | Firmenanlass Hochzeiten Events Saxofonist Musiker Saxophonist Schweiz Z&uuml;rich
X-ORIGINAL-URL:https://www.saxophonist-live.ch/saxofonist-blog
X-WR-CALDESC:Veranstaltungen für MisterSaxr.ch | saxophonist-LIVE.ch | Blog | Firmenanlass Hochzeiten Events Saxofonist Musiker Saxophonist Schweiz Z&uuml;rich
REFRESH-INTERVAL;VALUE=DURATION:PT1H
X-Robots-Tag:noindex
X-PUBLISHED-TTL:PT1H
BEGIN:VTIMEZONE
TZID:Europe/Zurich
BEGIN:DAYLIGHT
TZOFFSETFROM:+0100
TZOFFSETTO:+0200
TZNAME:CEST
DTSTART:20230326T010000
END:DAYLIGHT
BEGIN:STANDARD
TZOFFSETFROM:+0200
TZOFFSETTO:+0100
TZNAME:CET
DTSTART:20231029T010000
END:STANDARD
BEGIN:DAYLIGHT
TZOFFSETFROM:+0100
TZOFFSETTO:+0200
TZNAME:CEST
DTSTART:20240331T010000
END:DAYLIGHT
BEGIN:STANDARD
TZOFFSETFROM:+0200
TZOFFSETTO:+0100
TZNAME:CET
DTSTART:20241027T010000
END:STANDARD
BEGIN:DAYLIGHT
TZOFFSETFROM:+0100
TZOFFSETTO:+0200
TZNAME:CEST
DTSTART:20250330T010000
END:DAYLIGHT
BEGIN:STANDARD
TZOFFSETFROM:+0200
TZOFFSETTO:+0100
TZNAME:CET
DTSTART:20251026T010000
END:STANDARD
END:VTIMEZONE
BEGIN:VEVENT
DTSTART;TZID=Europe/Zurich:20240813T180000
DTEND;TZID=Europe/Zurich:20240813T210000
DTSTAMP:20260423T122727
CREATED:20240531T090312Z
LAST-MODIFIED:20240531T090312Z
UID:3868-1723572000-1723582800@www.saxophonist-live.ch
SUMMARY:Ein Sommerabend voller Musik und Genuss im Signinahotel
DESCRIPTION:Verpassen Sie nicht den letzten Sommer-BBQ-Abend im Signinahotel in Laax mit Mister Saxr! Am Dienstag\, den 13. August spielt der begabte Saxophonist live im Garten des Hotels. Erleben Sie einen entspannten Sommerabend mit hervorragender Musik und einem köstlichen BBQ. Lassen Sie sich von der magischen Stimmung und den leckeren Speisen verzaubern! Geniessen Sie die Kombination aus erstklassiger Live-Musik und delikaten Grillgerichten in einer wundervollen Umgebung. Das Signinahotel\, eingebettet in die malerische Natur von Laax\, bietet einen idealen Rückzugsort für Erholungssuchende. Entdecken Sie die vielseitigen Freizeitmöglichkeiten in der Region Flims-Laax und lassen Sie sich von der atemberaubenden Landschaft inspirieren. \nDas Besondere an Mister Saxr ist sein musikalisches Gespür\, welche Musik wie gespielt zu welchem Anlass am besten passt. Er stellt seine Leidenschaft für das Saxophon und für die Musik ganz in den Dienst Ihrer Gäste. Mal bleibt Mister Saxr dezent im Hintergrund. Mal ist er Bestandteil der Veranstaltung. Ob laut oder leise\, schnell oder langsam\, ob Pop\, Jazz\, R&B oder Dance-Hits\, mit Mister Saxr haben Sie den richtigen Mann für besondere Stunden. \nBesonders für Familien könnte es ein Highlight sein\, dass Ami Sabi\, der Alte vom Berg\, vielleicht auch dabei sein wird. In der Skischule erzählt er den Kindern spannende Geschichten über den Schnee\, den Himmel\, die Arve Schembrina und den wilden Mann Um Selvadi. Mit seiner Maus Maroni\, die die Kinder besonders lieben\, sorgt Ami Sabi für unvergessliche Erlebnisse und zauberhafte Momente. \nDas Signinahotel in Laax bietet seinen Gästen eine luxuriöse Vier-Sterne-Erfahrung inmitten der atemberaubenden Berglandschaft der Region Flims-Laax. Das Hotel ist bekannt für seine warme Gastfreundschaft und seinen erstklassigen Service\, der jeden Aufenthalt zu einem besonderen Erlebnis macht. Die geschmackvoll eingerichteten Zimmer und Suiten bieten höchsten Komfort und laden zum Entspannen ein. Kulinarisch verwöhnen die hoteleigenen Restaurants mit einer Vielzahl von exquisiten Gerichten\, die keine Wünsche offen lassen. Der Zürcher Saxofonist Mister Saxr\, mit Sitz in Flims\, spielt oft und gerne im Signinahotel. Das Hotel liegt ideal für Outdoor-Aktivitäten: Im Sommer sind Wander- und Mountainbike-Routen direkt zugänglich\, während im Winter erstklassige Skipisten nur wenige Schritte entfernt sind. Nach einem aktiven Tag in der Natur können Gäste im modernen Wellness- und Spa-Bereich des Hotels vollkommene Erholung finden und die Seele baumeln lassen.
URL:https://www.saxophonist-live.ch/saxofonist-blog/event/ein-sommerabend-voller-musik-und-genuss-im-signinahotel/
LOCATION:Signinahotel\, Via Murschetg 15\, Laax\, 7032
CATEGORIES:MisterSaxr Event
ATTACH;FMTTYPE=image/jpeg:https://www.saxophonist-live.ch/saxofonist-blog/wp-content/uploads/2018/09/MISTERSAXR_7409.jpg
END:VEVENT
BEGIN:VEVENT
DTSTART;TZID=Europe/Zurich:20240817T170000
DTEND;TZID=Europe/Zurich:20240817T230000
DTSTAMP:20260423T122727
CREATED:20240205T110919Z
LAST-MODIFIED:20240205T132305Z
UID:3753-1723914000-1723935600@www.saxophonist-live.ch
SUMMARY:Eine unvergessliche Geburtstagsfeier mit Mister Saxr
DESCRIPTION:Am 17. August 2024 findet im Restaurant Chicago 1928 in Zürich Oerlikon’s Halle 550 eine private Geburtstagsfeier statt\, die mit dem Saxophonisten Mister Saxr zu einem unvergesslichen Erlebnis werden wird. \nDie Halle 550 in Zürich Oerlikon ist bereits heute für ihre vielfältigen Möglichkeiten und ihr modernes Ambiente bekannt. Mit einem Hauch von Vintage-Charme bietet sie den idealen Rahmen für besondere Anlässe. Mister Saxr\, der talentierte Saxophonist aus Zürich\, wird die Veranstaltung mit seiner einzigartigen musikalischen Begleitung krönen. \nEr wird die Bühne im Restaurant Chicago 1928 betreten und die Gäste mit seinen Saxophonklängen in eine andere Welt entführen. Seine Musik wird eine Hommage an die Jazz-Ära sein und das Ambiente des Restaurants perfekt ergänzen. Die Gäste werden in eine Zeitreise durch die musikalischen Höhepunkte der Vergangenheit eintauchen\, während sie sich von den eleganten Klängen und der virtuosen Performance von Mister Saxr verzaubern lassen. \nDie Geburtstagsfeier wird zu einem unvergesslichen Erlebnis\, wenn Mister Saxr seine Melodien erklingen lässt. Die Gäste werden von der Magie seiner Musik ergriffen und in eine Atmosphäre der Eleganz und des Genusses gehüllt. Das Saxophonspiel von Mister Saxr wird nicht nur eine musikalische Darbietung sein\, sondern auch eine emotionale Reise\, die die Stimmung auf ein höheres Niveau hebt. \nDer Gastgeber und seine Gäste werden gemeinsam mit Mister Saxr den Abend in vollen Zügen geniessen und sich von der Musik verbinden lassen. \nWenn auch Sie eine unvergessliche Veranstaltung oder Feier planen\, sollten Sie Mister Saxr\, den Saxophonisten aus Zürich\, in Betracht ziehen. Seine Leidenschaft und sein Talent werden sicherstellen\, dass Ihr Event zu einem Highlight wird\, das die Gäste noch lange in Erinnerung behalten werden. \nLassen Sie uns gespannt auf die kommenden musikalischen Abenteuer blicken… \n 
URL:https://www.saxophonist-live.ch/saxofonist-blog/event/eine-unvergessliche-geburtstagsfeier-mit-mister-saxr/
LOCATION:Chicago 1928\, Birchstrasse 150\, Zürich\, ZH\, 8050\, Schweiz
CATEGORIES:MisterSaxr Event
ATTACH;FMTTYPE=image/jpeg:https://www.saxophonist-live.ch/saxofonist-blog/wp-content/uploads/2017/06/mistersaxr-2.jpg
END:VEVENT
BEGIN:VEVENT
DTSTART;TZID=Europe/Zurich:20240824T110000
DTEND;TZID=Europe/Zurich:20240824T150000
DTSTAMP:20260423T122727
CREATED:20240701T140749Z
LAST-MODIFIED:20240821T084459Z
UID:3907-1724497200-1724511600@www.saxophonist-live.ch
SUMMARY:Mister Saxr live am Dorffest Flims OpenAir
DESCRIPTION:Am 24. August 2024 ist es endlich soweit: Das Gewerbefest Flims\, organisiert vom Gewerbeverein Flims\, lädt zu einem Tag voller Musik\, Gemeinschaft und guter Laune ein. Dieses Fest ist mehr als nur eine Veranstaltung – es ist ein lebendiger Ausdruck des Gemeinschaftsgefühls und der Zusammengehörigkeit\, die die Bewohner von Flims seit jeher verbindet. Hier kommen Jung und Alt\, Einheimische und Gäste zusammen\, um inmitten der malerischen Kulisse der Schweizer Alpen das Leben\, die Kultur und die Traditionen ihres Dorfes zu feiern. \nEin besonderes Highlight des diesjährigen Dorffests wird der Auftritt von Mister Saxr sein\, einem herausragenden Saxophonisten\, der mit seiner Leidenschaft für Jazz\, Blues und moderne Popmusik die Herzen der Besucher erobern wird. Wenn er am Mirsa Kiosk\, einem beliebten Treffpunkt für alle Flimser\, die Bühne betritt\, wird der Platz von seiner Musik erfüllt sein. Der Mirsa Kiosk\, bekannt als ein Ort der Begegnung und des lebendigen Dorflebens\, bietet die perfekte Kulisse für ein Open-Air-Konzert\, das die besondere Atmosphäre des Dorffests unterstreicht. Hier\, wo sich die Dorfbewohner oft bei einer Tasse Kaffee treffen\, wird Mister Saxr mit seinen virtuosen Melodien für magische Momente sorgen. \nDoch das Gewerbefest Flims ist nicht nur ein musikalisches Erlebnis\, sondern auch ein Schaufenster für die Vielfalt und den Einfallsreichtum der lokalen Gemeinschaft. Die Hauptstrasse des Dorfes\, die Via Nova\, verwandelt sich in eine lebendige Festmeile\, auf der sich zahlreiche Stände\, Attraktionen und kulinarische Genüsse aneinanderreihen. Die Arena Lodge bietet gemütliche Rückzugsorte\, während die Crest Feinbäckerei mit ihren köstlichen Backwaren die Besucher verwöhnt. Holzbau Candrian zeigt handwerkliches Geschick\, und Flurettas Blumengeschäft bringt mit ihren floralen Kunstwerken Farbe ins Geschehen. Die AXA Flims und die Graubünden Kantonalbank stehen mit Rat und Tat zur Seite\, während Sport Beat die sportlich Aktiven mit allem Nötigen versorgt. \nDas Gewerbefest Flims wäre jedoch nicht komplett ohne die zahlreichen Vereine und Initiativen\, die das soziale Gefüge von Flims prägen. Die Theatergruppe Flims\, der Curling Club Flims\, der Tennisclub Flims und der Turnverein Flims präsentieren das reiche Vereinsleben des Dorfes. Die Feuerwehr Flims beeindruckt mit spannenden Vorführungen\, und die LAAX Bike School gibt Einblicke in die Welt des Mountainbikens. EHC Flims und das Sportzentrum Prau la Selva stehen für die sportlichen Ambitionen der Gemeinde\, während das Jodelchörli Sardona Flims und der Swingclub Flims musikalische Akzente setzen\, die das Herz des Dorffests zum Schlagen bringen. \nDas Dorffest ist auch eine Bühne für traditionelles Handwerk und lokale Spezialitäten: Gautschi Holz und Fensterbau\, die Flimser Schreinerei und Holzofen Brotbackn lassen alte Handwerkskünste lebendig werden\, während das Caff am Postplatz und Flims Gastro für das leibliche Wohl der Besucher sorgen. Auch die Hotels der Region\, darunter das Hotel Chess\, Hotel Adula\, Hotel Fidazerhof und Hotel The Hide Flims\, sowie die Erni AG Bauunternehmung und Flims Electric AG\, präsentieren stolz ihre Angebote und Dienstleistungen. \nFür kulturelle und touristische Highlights sorgen das Gelbe Haus\, Hapimag und die Weisse Arena Gruppe\, während Flims Laax Falera Tourismus und der Rotary Club Flims wertvolle Informationen und Unterstützung bieten. Der Buna Vista Golf Sagogn\, das Hotel Bellevue und die Metzgerei Günther tragen ebenfalls zum vielfältigen Angebot bei\, das dieses Dorffest zu einem einzigartigen Erlebnis macht. \nDie Veranstaltung zieht sich durch das gesamte Dorf – von der belebten Via Nova bis hin zum gemütlichen Dorfplatz. Überall\, wo man hinsieht\, wird gefeiert\, gelacht und die Gemeinschaft gelebt. Das Dorffest Flims ist mehr als nur ein Fest; es ist ein lebendiger Ausdruck der Zusammengehörigkeit und des Stolzes\, Teil dieser einzigartigen Gemeinde zu sein. Am 24. August 2024 wird das Dorf Flims zu einem einzigen grossen Festplatz\, auf dem jeder Besucher die Wärme und Gastfreundschaft der Flimser spüren kann. \nLassen Sie sich von der Musik von Mister Saxr verzaubern\, geniessen Sie die Vielfalt der lokalen Aussteller und erleben Sie die unvergleichliche Atmosphäre eines Dorffests\, das Sie so schnell nicht vergessen werden. Wir freuen uns darauf\, diesen besonderen Tag mit Ihnen zu feiern und gemeinsam die Verbundenheit und Lebensfreude unserer Gemeinschaft zu erleben!
URL:https://www.saxophonist-live.ch/saxofonist-blog/event/mister-saxr-live-am-dorffest-flims-openair/
LOCATION:Mirsa Kiosk\, Via Nova 53\, Flims\, 7017
CATEGORIES:MisterSaxr Event
ATTACH;FMTTYPE=image/jpeg:https://www.saxophonist-live.ch/saxofonist-blog/wp-content/uploads/2023/08/Mister_Saxr_Saxophonist_Sax_Schweiz_Zuerich_Events_Musik.jpg
END:VEVENT
END:VCALENDAR