BEGIN:VCALENDAR
VERSION:2.0
PRODID:-//MisterSaxr.ch | saxophonist-LIVE.ch | Blog | Firmenanlass Hochzeiten Events Saxofonist Musiker Saxophonist Schweiz Z&uuml;rich - ECPv6.15.8//NONSGML v1.0//EN
CALSCALE:GREGORIAN
METHOD:PUBLISH
X-ORIGINAL-URL:https://www.saxophonist-live.ch/saxofonist-blog
X-WR-CALDESC:Veranstaltungen für MisterSaxr.ch | saxophonist-LIVE.ch | Blog | Firmenanlass Hochzeiten Events Saxofonist Musiker Saxophonist Schweiz Z&uuml;rich
REFRESH-INTERVAL;VALUE=DURATION:PT1H
X-Robots-Tag:noindex
X-PUBLISHED-TTL:PT1H
BEGIN:VTIMEZONE
TZID:Europe/Zurich
BEGIN:DAYLIGHT
TZOFFSETFROM:+0100
TZOFFSETTO:+0200
TZNAME:CEST
DTSTART:20230326T010000
END:DAYLIGHT
BEGIN:STANDARD
TZOFFSETFROM:+0200
TZOFFSETTO:+0100
TZNAME:CET
DTSTART:20231029T010000
END:STANDARD
BEGIN:DAYLIGHT
TZOFFSETFROM:+0100
TZOFFSETTO:+0200
TZNAME:CEST
DTSTART:20240331T010000
END:DAYLIGHT
BEGIN:STANDARD
TZOFFSETFROM:+0200
TZOFFSETTO:+0100
TZNAME:CET
DTSTART:20241027T010000
END:STANDARD
BEGIN:DAYLIGHT
TZOFFSETFROM:+0100
TZOFFSETTO:+0200
TZNAME:CEST
DTSTART:20250330T010000
END:DAYLIGHT
BEGIN:STANDARD
TZOFFSETFROM:+0200
TZOFFSETTO:+0100
TZNAME:CET
DTSTART:20251026T010000
END:STANDARD
END:VTIMEZONE
BEGIN:VEVENT
DTSTART;TZID=Europe/Zurich:20241031T193000
DTEND;TZID=Europe/Zurich:20241031T213000
DTSTAMP:20260423T100158
CREATED:20241024T072201Z
LAST-MODIFIED:20241024T072201Z
UID:4023-1730403000-1730410200@www.saxophonist-live.ch
SUMMARY:Ein Event der ZGAV mit Mister Saxr
DESCRIPTION:Am Donnerstag\, den 31. Oktober 2024\, wird MisterSaxr bei einem besonderen Event des Zürcher Regionalverbands der SVVG (ZGAV) auftreten. Die Veranstaltung dreht sich um das topaktuelle Thema „Entschädigungsmodelle im Aussendienst auf dem Prüfstand – Wohin geht die Reise?“ und bietet den geladenen Gästen eine spannende Diskussion mit hochkarätigen Experten aus der Versicherungsbranche. Das Event findet ab 17.30 Uhr im Zürich Development Center statt\, wo Vertreter verschiedener namhafter Versicherungen wie AXA\, Helsana und Helvetia ihre Einschätzungen teilen. \nMisterSaxr\, ein begnadeter Zürcher Saxophonist\, wird diesen besonderen Anlass musikalisch begleiten. Während des Aperitif riche sorgt er mit seiner Hintergrundmusik für die perfekte Atmosphäre. Mit seiner eleganten Mischung aus sanften Lounge-Klängen und jazzigen Melodien bietet MisterSaxr den Gästen die Möglichkeit\, sich in entspannter Atmosphäre auf die bevorstehenden Diskussionen einzustimmen. \nDer Event findet im Zürich Development Center an der Keltenstrasse 48 statt\, einer exklusiven und modernen Location im Herzen von Zürich. Das Gebäude bietet einen stilvollen und professionellen Rahmen für Veranstaltungen dieser Art und ist bequem mit den öffentlichen Verkehrsmitteln sowie mit dem Auto erreichbar. Die Umgebung ist ruhig und fördert konzentrierte Diskussionen und anregende Gespräche – die perfekte Kulisse für einen Abend mit spannenden Einblicken in die Zukunft des Aussendienstes und entspannter musikalischer Untermalung durch MisterSaxr. \nMisterSaxr hat sich als talentierter Musiker in Zürich und darüber hinaus einen Namen gemacht. Mit seiner Leidenschaft für das Saxophon und seinem einzigartigen Sound verzaubert er jedes Publikum. Seine Auftritte sind vielseitig – von exklusiven Veranstaltungen über private Feiern bis hin zu öffentlichen Konzerten. MisterSaxr versteht es\, mit seiner Musik eine besondere Stimmung zu schaffen\, die sich sowohl an die Umgebung als auch an das Publikum anpasst. \nFür das ZGAV-Event hat er ein speziell ausgewähltes Repertoire vorbereitet\, das perfekt zur eleganten und professionellen Atmosphäre des Abends passt. Seine Musik ist die ideale Begleitung für das Networking und die Gespräche während des Aperitif riche und wird sicher einen bleibenden Eindruck bei den Gästen hinterlassen. \nDieser Abend wird nicht nur aufgrund der Diskussionen rund um das Thema Entschädigungsmodelle im Aussendienst in Erinnerung bleiben\, sondern auch dank der musikalischen Begleitung durch MisterSaxr. Der Zürcher Saxophonist wird den Event mit seiner Hintergrundmusik abrunden und so für ein angenehmes und stimmungsvolles Ambiente sorgen.
URL:https://www.saxophonist-live.ch/saxofonist-blog/event/ein-event-der-zgav-mit-mister-saxr/
LOCATION:Zurich Insurance Company Ltd\, Keltenstrasse 48\, Zürich\, 8044
CATEGORIES:MisterSaxr Event
ATTACH;FMTTYPE=image/jpeg:https://www.saxophonist-live.ch/saxofonist-blog/wp-content/uploads/2023/08/Mister_Saxr_Saxophonist_Sax_Schweiz_Zuerich_Events_Musik.jpg
END:VEVENT
END:VCALENDAR