BEGIN:VCALENDAR
VERSION:2.0
PRODID:-//MisterSaxr.ch | saxophonist-LIVE.ch | Blog | Firmenanlass Hochzeiten Events Saxofonist Musiker Saxophonist Schweiz Z&uuml;rich - ECPv6.15.8//NONSGML v1.0//EN
CALSCALE:GREGORIAN
METHOD:PUBLISH
X-ORIGINAL-URL:https://www.saxophonist-live.ch/saxofonist-blog
X-WR-CALDESC:Veranstaltungen für MisterSaxr.ch | saxophonist-LIVE.ch | Blog | Firmenanlass Hochzeiten Events Saxofonist Musiker Saxophonist Schweiz Z&uuml;rich
REFRESH-INTERVAL;VALUE=DURATION:PT1H
X-Robots-Tag:noindex
X-PUBLISHED-TTL:PT1H
BEGIN:VTIMEZONE
TZID:Europe/Zurich
BEGIN:DAYLIGHT
TZOFFSETFROM:+0100
TZOFFSETTO:+0200
TZNAME:CEST
DTSTART:20210328T010000
END:DAYLIGHT
BEGIN:STANDARD
TZOFFSETFROM:+0200
TZOFFSETTO:+0100
TZNAME:CET
DTSTART:20211031T010000
END:STANDARD
BEGIN:DAYLIGHT
TZOFFSETFROM:+0100
TZOFFSETTO:+0200
TZNAME:CEST
DTSTART:20220327T010000
END:DAYLIGHT
BEGIN:STANDARD
TZOFFSETFROM:+0200
TZOFFSETTO:+0100
TZNAME:CET
DTSTART:20221030T010000
END:STANDARD
BEGIN:DAYLIGHT
TZOFFSETFROM:+0100
TZOFFSETTO:+0200
TZNAME:CEST
DTSTART:20230326T010000
END:DAYLIGHT
BEGIN:STANDARD
TZOFFSETFROM:+0200
TZOFFSETTO:+0100
TZNAME:CET
DTSTART:20231029T010000
END:STANDARD
END:VTIMEZONE
BEGIN:VEVENT
DTSTART;TZID=Europe/Zurich:20220810T170000
DTEND;TZID=Europe/Zurich:20220810T200000
DTSTAMP:20260425T184342
CREATED:20220419T122232Z
LAST-MODIFIED:20220422T080748Z
UID:3152-1660150800-1660161600@www.saxophonist-live.ch
SUMMARY:Mister Saxr live @ VIVES Sommer Pop-up
DESCRIPTION:Mister Saxr unter freiem Himmel! Der leidenschaftliche Saxophonist führt seine Zuhörer mit seinen elektrisierenden Rhythmen und Melodien aller Genres zu einem Glücksmoment des Genusses. Ob Bossa-Nova\, Smoth Jazz\, Pop\, Rock oder Disco\, aktuellen Hits oder den schönsten Evergreens aller Zeiten\, Mister Saxr kann sein Programm ganz nach Stimmung anpassen. Sein Tenor-Sax der Marke Selmer eignet sich hervorragend für diverse Musik-Richtungen und schafft durch seine unverkennbare Art und ein ganz besonderes Flair. \nDas Schulhaus St. Georgen\, mitten im urbanen Zentrum der Eulachstadt\, verwandelt sich diesen Sommer zu einer Oase der kulinarischen und musikalischen Genüsse. Das Sommer Pop Up Winterthur der Best Catering GmbH\, jeweils nur für begrenzte Zeit verfügbar\, sorgt neben einer exklusiven Verköstigung der Gäste auch für Extra-Stimmung durch Musiker\, Bands oder DJs. Alle Konzerte sind eintrittsfrei\, eine freiwillige Kollekte geht an den Künstler. \nIm Zeichen der VIVES-Night informieren die VIVES-Gründer\, Roger Harlacher und Roni Haug\, über die Tätigkeiten und Projekte der Stiftung. \nMister Saxr tritt ohne Gage auf\, er sammelt druch seinen Gig an diesem Abend für ebendiese Stiftung und hofft so auf zusätzliche Spendengelder\, welche der VIVES-Stiftung weiterhin erlauben ihrer Tätigkeit nachzugehen und Menschen in Afrika und Asien nachhaltig mit frischem und sauberem Wasser zu versorgen.
URL:https://www.saxophonist-live.ch/saxofonist-blog/event/mister-saxr-live-vives-sommer-pop-up-2/
LOCATION:Schulhaus St. Georgen\, Winterthur\, 8400\, Schweiz
CATEGORIES:MisterSaxr Event
ATTACH;FMTTYPE=image/jpeg:https://www.saxophonist-live.ch/saxofonist-blog/wp-content/uploads/2016/12/web_bild_roni1_juni16_weiss.jpg
END:VEVENT
END:VCALENDAR