BEGIN:VCALENDAR
VERSION:2.0
PRODID:-//MisterSaxr.ch | saxophonist-LIVE.ch | Blog | Firmenanlass Hochzeiten Events Saxofonist Musiker Saxophonist Schweiz Z&uuml;rich - ECPv6.15.8//NONSGML v1.0//EN
CALSCALE:GREGORIAN
METHOD:PUBLISH
X-WR-CALNAME:MisterSaxr.ch | saxophonist-LIVE.ch | Blog | Firmenanlass Hochzeiten Events Saxofonist Musiker Saxophonist Schweiz Z&uuml;rich
X-ORIGINAL-URL:https://www.saxophonist-live.ch/saxofonist-blog
X-WR-CALDESC:Veranstaltungen für MisterSaxr.ch | saxophonist-LIVE.ch | Blog | Firmenanlass Hochzeiten Events Saxofonist Musiker Saxophonist Schweiz Z&uuml;rich
REFRESH-INTERVAL;VALUE=DURATION:PT1H
X-Robots-Tag:noindex
X-PUBLISHED-TTL:PT1H
BEGIN:VTIMEZONE
TZID:Europe/Zurich
BEGIN:DAYLIGHT
TZOFFSETFROM:+0100
TZOFFSETTO:+0200
TZNAME:CEST
DTSTART:20200329T010000
END:DAYLIGHT
BEGIN:STANDARD
TZOFFSETFROM:+0200
TZOFFSETTO:+0100
TZNAME:CET
DTSTART:20201025T010000
END:STANDARD
BEGIN:DAYLIGHT
TZOFFSETFROM:+0100
TZOFFSETTO:+0200
TZNAME:CEST
DTSTART:20210328T010000
END:DAYLIGHT
BEGIN:STANDARD
TZOFFSETFROM:+0200
TZOFFSETTO:+0100
TZNAME:CET
DTSTART:20211031T010000
END:STANDARD
BEGIN:DAYLIGHT
TZOFFSETFROM:+0100
TZOFFSETTO:+0200
TZNAME:CEST
DTSTART:20220327T010000
END:DAYLIGHT
BEGIN:STANDARD
TZOFFSETFROM:+0200
TZOFFSETTO:+0100
TZNAME:CET
DTSTART:20221030T010000
END:STANDARD
END:VTIMEZONE
BEGIN:VEVENT
DTSTART;TZID=Europe/Zurich:20210925T110000
DTEND;TZID=Europe/Zurich:20210925T170000
DTSTAMP:20260425T171912
CREATED:20210819T083505Z
LAST-MODIFIED:20211108T145111Z
UID:2917-1632567600-1632589200@www.saxophonist-live.ch
SUMMARY:MisterSaxr @ Migros Volketswil
DESCRIPTION:Der Zürcher Saxofonist spielt bereits zum wiederholten Male für die Migros\, diesmal in Volketswil. Am 25. September 2021 unterhält er musikalisch die Gäste in Zentrum Volketswil.\nZum Repertoire des Saxophonisten und Musikers gehören die allerschönsten und bekannten Sax-Melodien aus den Bereichen Smooth-Jazz\, BossaNova\, Evergreens\, Pop- und Hitparaden-Songs. Der Schweizer Saxofonist berührt mit seinen Melodien.
URL:https://www.saxophonist-live.ch/saxofonist-blog/event/mistersaxr-migros-volketswil/
LOCATION:Zentrum Volketswil\, Im Zentrum 18\, Volketswil\, 8604
CATEGORIES:MisterSaxr Event
ATTACH;FMTTYPE=image/jpeg:https://www.saxophonist-live.ch/saxofonist-blog/wp-content/uploads/2020/10/MisterSaxr_Saxophonistlive_Zürich_6.jpeg
END:VEVENT
END:VCALENDAR