BEGIN:VCALENDAR
VERSION:2.0
PRODID:-//MisterSaxr.ch | saxophonist-LIVE.ch | Blog | Firmenanlass Hochzeiten Events Saxofonist Musiker Saxophonist Schweiz Z&uuml;rich - ECPv6.15.8//NONSGML v1.0//EN
CALSCALE:GREGORIAN
METHOD:PUBLISH
X-WR-CALNAME:MisterSaxr.ch | saxophonist-LIVE.ch | Blog | Firmenanlass Hochzeiten Events Saxofonist Musiker Saxophonist Schweiz Z&uuml;rich
X-ORIGINAL-URL:https://www.saxophonist-live.ch/saxofonist-blog
X-WR-CALDESC:Veranstaltungen für MisterSaxr.ch | saxophonist-LIVE.ch | Blog | Firmenanlass Hochzeiten Events Saxofonist Musiker Saxophonist Schweiz Z&uuml;rich
REFRESH-INTERVAL;VALUE=DURATION:PT1H
X-Robots-Tag:noindex
X-PUBLISHED-TTL:PT1H
BEGIN:VTIMEZONE
TZID:Europe/Zurich
BEGIN:DAYLIGHT
TZOFFSETFROM:+0100
TZOFFSETTO:+0200
TZNAME:CEST
DTSTART:20220327T010000
END:DAYLIGHT
BEGIN:STANDARD
TZOFFSETFROM:+0200
TZOFFSETTO:+0100
TZNAME:CET
DTSTART:20221030T010000
END:STANDARD
BEGIN:DAYLIGHT
TZOFFSETFROM:+0100
TZOFFSETTO:+0200
TZNAME:CEST
DTSTART:20230326T010000
END:DAYLIGHT
BEGIN:STANDARD
TZOFFSETFROM:+0200
TZOFFSETTO:+0100
TZNAME:CET
DTSTART:20231029T010000
END:STANDARD
BEGIN:DAYLIGHT
TZOFFSETFROM:+0100
TZOFFSETTO:+0200
TZNAME:CEST
DTSTART:20240331T010000
END:DAYLIGHT
BEGIN:STANDARD
TZOFFSETFROM:+0200
TZOFFSETTO:+0100
TZNAME:CET
DTSTART:20241027T010000
END:STANDARD
END:VTIMEZONE
BEGIN:VEVENT
DTSTART;TZID=Europe/Zurich:20231211T180000
DTEND;TZID=Europe/Zurich:20231211T220000
DTSTAMP:20260424T000433
CREATED:20230310T111604Z
LAST-MODIFIED:20230310T111914Z
UID:3422-1702317600-1702332000@www.saxophonist-live.ch
SUMMARY:magicMonday für die Stiftung Wunderlampe
DESCRIPTION:Wenn am 11. Dezember 2023 der magicMonday für die Stiftung Wunderlampe stattfindet\, dann wird es richtig weihnächtlich. René Bisang\, der Schlagersänger mit einer Stimme wie Gölä und Jessica Ming\, die zauberhafte Sängerin aus Luzern haben zusammen mit Mister Saxr eine Weihnachtsshow einstudiert und sie tragen diese zum ersten Mal in Zürich live vor. Das X-Mas Trio spielt eigene Songs\, die allesamt im Christmas-Stil begeistern. Wienachtä wiäs früener isch gsi lautet der Titel des Konzertes. Es gibt davon auch bereits eine EP\, eine zweite ist derzeit in Produktion. Hörproben des Titelsongs gibt es hier: Hörprobe \nDie Stiftung Wunderlampe erfüllt Herzenswünsche von schwerkranken Kinder. Die Stiftung wird am magicMonday von der Gründerin und Geschäftsführerin Karin Haug-Bleuler präsentiert. Sie wird dabei von der Stiftungsbotschafterin Christa Rigozzi unterstützt. Moderiert wird der Abend von der Prix Walo Gewinnerin und auch sehr bekannten TV-Moderatorin Patricia Boser. Mister Saxr\, René Bisang\, Jessica Ming\, Patricia Boser\, Karin Haug\, Christa Rigozzi\, Rolf Hiltl und Paul Fleischli laden zum X-mas Special des magic Monday ein. \n\nTickets sind ab sofort erhältlich und der Abend ist öffentlich buchbar: \n\nTickets magicMonday Stiftung Wunderlampe \n\nHinweis: Erfahrungsgemäss ist dieser Abend sehr schnell ausverkauft. Da es eine beschränkte Platzzahl hat empfehlen wir die Tickets rasch zu kaufen.
URL:https://www.saxophonist-live.ch/saxofonist-blog/event/magicmonday-fuer-die-stiftung-wunderlampe/
LOCATION:Blumen Krämer / Pflanzbar by Hiltl\, Talstrasse 62\, Zürich\, ZH\, 8001\, Schweiz
CATEGORIES:MisterSaxr Event
ATTACH;FMTTYPE=image/jpeg:https://www.saxophonist-live.ch/saxofonist-blog/wp-content/uploads/2023/03/Stiftung-Wunderlampe_magicMonday_2023_vs.jpg
END:VEVENT
END:VCALENDAR