BEGIN:VCALENDAR
VERSION:2.0
PRODID:-//MisterSaxr.ch | saxophonist-LIVE.ch | Blog | Firmenanlass Hochzeiten Events Saxofonist Musiker Saxophonist Schweiz Z&uuml;rich - ECPv6.15.8//NONSGML v1.0//EN
CALSCALE:GREGORIAN
METHOD:PUBLISH
X-WR-CALNAME:MisterSaxr.ch | saxophonist-LIVE.ch | Blog | Firmenanlass Hochzeiten Events Saxofonist Musiker Saxophonist Schweiz Z&uuml;rich
X-ORIGINAL-URL:https://www.saxophonist-live.ch/saxofonist-blog
X-WR-CALDESC:Veranstaltungen für MisterSaxr.ch | saxophonist-LIVE.ch | Blog | Firmenanlass Hochzeiten Events Saxofonist Musiker Saxophonist Schweiz Z&uuml;rich
REFRESH-INTERVAL;VALUE=DURATION:PT1H
X-Robots-Tag:noindex
X-PUBLISHED-TTL:PT1H
BEGIN:VTIMEZONE
TZID:Europe/Zurich
BEGIN:DAYLIGHT
TZOFFSETFROM:+0100
TZOFFSETTO:+0200
TZNAME:CEST
DTSTART:20240331T010000
END:DAYLIGHT
BEGIN:STANDARD
TZOFFSETFROM:+0200
TZOFFSETTO:+0100
TZNAME:CET
DTSTART:20241027T010000
END:STANDARD
BEGIN:DAYLIGHT
TZOFFSETFROM:+0100
TZOFFSETTO:+0200
TZNAME:CEST
DTSTART:20250330T010000
END:DAYLIGHT
BEGIN:STANDARD
TZOFFSETFROM:+0200
TZOFFSETTO:+0100
TZNAME:CET
DTSTART:20251026T010000
END:STANDARD
BEGIN:DAYLIGHT
TZOFFSETFROM:+0100
TZOFFSETTO:+0200
TZNAME:CEST
DTSTART:20260329T010000
END:DAYLIGHT
BEGIN:STANDARD
TZOFFSETFROM:+0200
TZOFFSETTO:+0100
TZNAME:CET
DTSTART:20261025T010000
END:STANDARD
END:VTIMEZONE
BEGIN:VEVENT
DTSTART;TZID=Europe/Zurich:20251104T180000
DTEND;TZID=Europe/Zurich:20251104T220000
DTSTAMP:20260420T102052
CREATED:20251025T212148Z
LAST-MODIFIED:20251025T212148Z
UID:4345-1762279200-1762293600@www.saxophonist-live.ch
SUMMARY:Mister Saxr im Kongresshaus Zürich – Winter Wonderland 2025
DESCRIPTION:Am 4. November 2025 verwandelt sich das Kongresshaus Zürich in eine faszinierende Erlebniswelt: Das Event „Winter Wonderland“ lädt Gäste ein\, in eine stimmungsvolle Kulissenlandschaft einzutauchen – elegant\, atmosphärisch und voller Vorfreude auf die kommende Saison. Kein klassischer Weihnachtsanlass\, sondern ein Abend\, der den Zauber des Winters aufgreift und in ein modernes\, stilvolles Ambiente überträgt. Für den musikalischen Rahmen sorgt Mister Saxr\, der mit seinem Saxophon den Raum in Klang und Wärme hüllt. \nDas Kongresshaus Zürich bietet dafür die perfekte Bühne. Direkt am Ufer des Zürichsees gelegen\, verbindet es seit seiner Eröffnung im Jahr 1939 Tradition\, Architektur und Kultur auf einzigartige Weise. Nach der umfassenden Renovation wurde das Gebäude zu einem der modernsten Veranstaltungshäuser Europas. Klare Linien\, helle Materialien und weite Glasfronten schaffen Transparenz und Offenheit\, während die denkmalgeschützten Elemente den historischen Charakter bewahren. Der Blick über den See und die Alpen macht jede Veranstaltung hier zu einem besonderen Erlebnis. \nZwischen modernen Sälen\, eindrucksvollen Lichträumen und eleganten Lounge-Bereichen entfaltet sich beim Winter Wonderland ein Spiel aus Licht\, Klang und Bewegung. Kühle Farbtöne\, glitzernde Reflexionen und dezente Dekorationselemente schaffen eine winterliche Atmosphäre\, die an die Stille und Schönheit der kalten Jahreszeit erinnert – ohne dabei weihnachtlich zu sein. \nInmitten dieser Kulisse spielt Mister Saxr. Mit seinem Selmer Supreme Saxophon füllt er den Raum mit Melodien\, die Wärme\, Tiefe und Leichtigkeit verbinden. Seine Musik passt sich der Architektur an – klar\, elegant und voller Präsenz. Die Gäste spüren\, wie Klang und Raum miteinander verschmelzen: der weite Hall des Saals\, das weiche Echo seiner Töne\, die Bewegung der Menschen – alles bildet eine harmonische Einheit. \nDer Abend ist eine Einladung\, den Winter neu zu erleben – als Symbol für Eleganz\, Klarheit und Ruhe. Während im Kongresshaus kulinarische Highlights serviert und Gespräche geführt werden\, begleitet Mister Saxr das Geschehen dezent\, aber spürbar. Seine Musik schafft Momente der Nähe inmitten des grossen Raumes und gibt dem Event jene emotionale Tiefe\, die bleibt. \nDas Winter Wonderland im Kongresshaus Zürich ist kein Fest im klassischen Sinn – es ist ein Erlebnis. Architektur\, Atmosphäre und Musik verbinden sich zu einer Gesamtkomposition\, die Stil und Emotion in Einklang bringt. Und Mister Saxr sorgt mit seinem Saxophon dafür\, dass der Winter an diesem Abend nicht kalt\, sondern klangvoll wird.
URL:https://www.saxophonist-live.ch/saxofonist-blog/event/mister-saxr-im-kongresshaus-zuerich-winter-wonderland-2025/
LOCATION:Kongresshaus Zürich\, Claridenstrasse 5\, Zürich\, 8002
CATEGORIES:MisterSaxr Event
ATTACH;FMTTYPE=image/jpeg:https://www.saxophonist-live.ch/saxofonist-blog/wp-content/uploads/2018/08/Mister_Saxr_magicMonday_Event_Saxofonist_Zürich_2.jpg
END:VEVENT
END:VCALENDAR