BEGIN:VCALENDAR
VERSION:2.0
PRODID:-//MisterSaxr.ch | saxophonist-LIVE.ch | Blog | Firmenanlass Hochzeiten Events Saxofonist Musiker Saxophonist Schweiz Z&uuml;rich - ECPv6.15.8//NONSGML v1.0//EN
CALSCALE:GREGORIAN
METHOD:PUBLISH
X-ORIGINAL-URL:https://www.saxophonist-live.ch/saxofonist-blog
X-WR-CALDESC:Veranstaltungen für MisterSaxr.ch | saxophonist-LIVE.ch | Blog | Firmenanlass Hochzeiten Events Saxofonist Musiker Saxophonist Schweiz Z&uuml;rich
REFRESH-INTERVAL;VALUE=DURATION:PT1H
X-Robots-Tag:noindex
X-PUBLISHED-TTL:PT1H
BEGIN:VTIMEZONE
TZID:Europe/Zurich
BEGIN:DAYLIGHT
TZOFFSETFROM:+0100
TZOFFSETTO:+0200
TZNAME:CEST
DTSTART:20170326T010000
END:DAYLIGHT
BEGIN:STANDARD
TZOFFSETFROM:+0200
TZOFFSETTO:+0100
TZNAME:CET
DTSTART:20171029T010000
END:STANDARD
BEGIN:DAYLIGHT
TZOFFSETFROM:+0100
TZOFFSETTO:+0200
TZNAME:CEST
DTSTART:20180325T010000
END:DAYLIGHT
BEGIN:STANDARD
TZOFFSETFROM:+0200
TZOFFSETTO:+0100
TZNAME:CET
DTSTART:20181028T010000
END:STANDARD
BEGIN:DAYLIGHT
TZOFFSETFROM:+0100
TZOFFSETTO:+0200
TZNAME:CEST
DTSTART:20190331T010000
END:DAYLIGHT
BEGIN:STANDARD
TZOFFSETFROM:+0200
TZOFFSETTO:+0100
TZNAME:CET
DTSTART:20191027T010000
END:STANDARD
END:VTIMEZONE
BEGIN:VEVENT
DTSTART;TZID=Europe/Zurich:20181027T180000
DTEND;TZID=Europe/Zurich:20181027T230000
DTSTAMP:20260425T034825
CREATED:20180830T142544Z
LAST-MODIFIED:20180830T142614Z
UID:1868-1540663200-1540681200@www.saxophonist-live.ch
SUMMARY:Mister Saxr im Gartencenter Wyss Bern
DESCRIPTION:Das Wyss GartenHaus in Ostermundigen\, Bern\, ist auf Rang 5 der schönsten Schweizer Lokale (Swiss Location Award 2016). Eine authentische und gemütliche Partylocation\, die die Gäste begeistert. Mit dabei ist der Saxophonist Mister Saxr mit seinem Selmer Mark VI einer Saxofon-Rarität und vielen Songs aus den Sparten Bossa Nova\, Smooth Jazz\, Blues\, Pop\, Sentimental und viele mehr.
URL:https://www.saxophonist-live.ch/saxofonist-blog/event/mister-saxr-im-gartencenter-wyss-bern/
LOCATION:Wyss GartenHaus Ostermundigen\, Untere Zollgasse 81\, Ostermundigen\, Bern\, 3072\, Schweiz
CATEGORIES:MisterSaxr Event
ATTACH;FMTTYPE=image/jpeg:https://www.saxophonist-live.ch/saxofonist-blog/wp-content/uploads/2016/10/saxophon.jpg
END:VEVENT
END:VCALENDAR