BEGIN:VCALENDAR
VERSION:2.0
PRODID:-//MisterSaxr.ch | saxophonist-LIVE.ch | Blog | Firmenanlass Hochzeiten Events Saxofonist Musiker Saxophonist Schweiz Z&uuml;rich - ECPv6.15.8//NONSGML v1.0//EN
CALSCALE:GREGORIAN
METHOD:PUBLISH
X-ORIGINAL-URL:https://www.saxophonist-live.ch/saxofonist-blog
X-WR-CALDESC:Veranstaltungen für MisterSaxr.ch | saxophonist-LIVE.ch | Blog | Firmenanlass Hochzeiten Events Saxofonist Musiker Saxophonist Schweiz Z&uuml;rich
REFRESH-INTERVAL;VALUE=DURATION:PT1H
X-Robots-Tag:noindex
X-PUBLISHED-TTL:PT1H
BEGIN:VTIMEZONE
TZID:Europe/Zurich
BEGIN:DAYLIGHT
TZOFFSETFROM:+0100
TZOFFSETTO:+0200
TZNAME:CEST
DTSTART:20190331T010000
END:DAYLIGHT
BEGIN:STANDARD
TZOFFSETFROM:+0200
TZOFFSETTO:+0100
TZNAME:CET
DTSTART:20191027T010000
END:STANDARD
BEGIN:DAYLIGHT
TZOFFSETFROM:+0100
TZOFFSETTO:+0200
TZNAME:CEST
DTSTART:20200329T010000
END:DAYLIGHT
BEGIN:STANDARD
TZOFFSETFROM:+0200
TZOFFSETTO:+0100
TZNAME:CET
DTSTART:20201025T010000
END:STANDARD
BEGIN:DAYLIGHT
TZOFFSETFROM:+0100
TZOFFSETTO:+0200
TZNAME:CEST
DTSTART:20210328T010000
END:DAYLIGHT
BEGIN:STANDARD
TZOFFSETFROM:+0200
TZOFFSETTO:+0100
TZNAME:CET
DTSTART:20211031T010000
END:STANDARD
END:VTIMEZONE
BEGIN:VEVENT
DTSTART;TZID=Europe/Zurich:20200901T170000
DTEND;TZID=Europe/Zurich:20200901T210000
DTSTAMP:20260425T222519
CREATED:20200302T144339Z
LAST-MODIFIED:20200420T102119Z
UID:2590-1598979600-1598994000@www.saxophonist-live.ch
SUMMARY:Golfturnier Dolder
DESCRIPTION:Der Zürcher Saxophonist Mister Saxr und die Zürcher Sängerin Nyssina begleiten ein weiteres Golfturnier\, diesmal für den Dolder Golfclub Zürich. \nDer Dolder Golfclub Zürich wurde im Jahr 1907 gegründet und ist damit einer der ältesten privaten Golfclubs der Schweiz. 2004/05 wurde der Platz sanft umgebaut und sämtliche Greens erneuert. Am Südhang des Adlisberg\, mit atemberaubender Aussicht auf die Stadt Zürich\, unmittelbar unterhalb des Hotels «Dolder Grand»\, liegt die Dolder 9-Loch-Anlage. Der Golfplatz ist für seinen guten Pflegezustand bekannt. Alter Baumbestand umrahmt die Anlage und schafft ein ganz besonderes Ambiente. \nDas Restaurant ist ein Geheimtipp für Gourmets und verwöhnt Sie mit hervorragender Küche und einer erlesenen Weinkarte. Die traumhafte Aussicht – bei schönem Wetter auch auf der Terrasse\, gilt als einer der erholsamsten Orte von ganz Zürich. \nMister Saxr ist ein Saxophonist mit sehr warmen Tenorsax – Sound. Mister Saxr spielt sein Selmer Mark VI\, ein einzigartiges Tenorsaxophon\, welches Kultstatus erreicht hat. Sein musikalisches Repertoire begeisterte schon Kunden und Publikum weltweit. So tritt und trat der Musiker bereits in München\, Spanien und auch Italien auf. Nyssina hat eine soulige und warme Stimme. Sie hat holländische Wurzeln und erlangte mit grandiosen Auftritten bei Voice of Holland eine hohe Bekanntheit. Heute tritt sie regelmässig mit internationalen Musikstars auf. Dies Live an Konzerten oder auch im Studio für die Albumproduktion. Nyssina war schon mit the Jacksons\, Michael Bolton\, Seven\, gemeinsam auf der Bühne. Sie sang solo bei Art on Ice und ist regelmässig auch am Schweizer Fernsehen zu sehen (European Song Contest\, Sing meinen Song usw.). Zusammen ergänzen sich die beiden in Zürich lebenden Musiker perfekt. Sie treten gemeinsam seit Jahren auf und sind ein eingespieltes Duo. Die Gäste werden unterhalten mit Bossa Nova\, Pop\, Smooth Jazz\, Evergreens\, Disco\, Love-Songs und weltbekannten Songs.
URL:https://www.saxophonist-live.ch/saxofonist-blog/event/golfturnier-dolder/
LOCATION:Dolder Golfclub Zürich\, Kurhausstrasse 66\, Zürich\, Zürich\, 8032\, Schweiz
CATEGORIES:MisterSaxr Event
ATTACH;FMTTYPE=image/jpeg:https://www.saxophonist-live.ch/saxofonist-blog/wp-content/uploads/2019/08/MisterSaxr_Rapperswil-Jona-Lakers.jpg
END:VEVENT
END:VCALENDAR