BEGIN:VCALENDAR
VERSION:2.0
PRODID:-//MisterSaxr.ch | saxophonist-LIVE.ch | Blog | Firmenanlass Hochzeiten Events Saxofonist Musiker Saxophonist Schweiz Z&uuml;rich - ECPv6.15.8//NONSGML v1.0//EN
CALSCALE:GREGORIAN
METHOD:PUBLISH
X-ORIGINAL-URL:https://www.saxophonist-live.ch/saxofonist-blog
X-WR-CALDESC:Veranstaltungen für MisterSaxr.ch | saxophonist-LIVE.ch | Blog | Firmenanlass Hochzeiten Events Saxofonist Musiker Saxophonist Schweiz Z&uuml;rich
REFRESH-INTERVAL;VALUE=DURATION:PT1H
X-Robots-Tag:noindex
X-PUBLISHED-TTL:PT1H
BEGIN:VTIMEZONE
TZID:Europe/Zurich
BEGIN:DAYLIGHT
TZOFFSETFROM:+0100
TZOFFSETTO:+0200
TZNAME:CEST
DTSTART:20200329T010000
END:DAYLIGHT
BEGIN:STANDARD
TZOFFSETFROM:+0200
TZOFFSETTO:+0100
TZNAME:CET
DTSTART:20201025T010000
END:STANDARD
BEGIN:DAYLIGHT
TZOFFSETFROM:+0100
TZOFFSETTO:+0200
TZNAME:CEST
DTSTART:20210328T010000
END:DAYLIGHT
BEGIN:STANDARD
TZOFFSETFROM:+0200
TZOFFSETTO:+0100
TZNAME:CET
DTSTART:20211031T010000
END:STANDARD
BEGIN:DAYLIGHT
TZOFFSETFROM:+0100
TZOFFSETTO:+0200
TZNAME:CEST
DTSTART:20220327T010000
END:DAYLIGHT
BEGIN:STANDARD
TZOFFSETFROM:+0200
TZOFFSETTO:+0100
TZNAME:CET
DTSTART:20221030T010000
END:STANDARD
END:VTIMEZONE
BEGIN:VEVENT
DTSTART;TZID=Europe/Zurich:20210329T140000
DTEND;TZID=Europe/Zurich:20210329T153000
DTSTAMP:20260425T145625
CREATED:20210223T093356Z
LAST-MODIFIED:20210223T093356Z
UID:2822-1617026400-1617031800@www.saxophonist-live.ch
SUMMARY:Konzert in den Innenhöfen
DESCRIPTION:Mister Saxr spielt live Saxophon im Garten des Tertianums Residenz Segeten. Am Montag\, 29. März wird der Zürcher Saxophonist die Bewohnerinnen und Bewohner im Zürcher Quartier Witikon mit feinsten Saxophon-Klängen unterhalten. Mister Saxr spielt Begleitmusik\, Musik zum Verweilen und Träumen. Damit alle Bewohner die Möglichkeit haben von ihrem Balkon das Konzert zu geniessen\, wird Mister Saxr in allen 3 Innenhöfen auftreten. So werden alle Anwesenden\, aber auch der Musiker selber\, bestens geschützt sein und alle können die Evergreens und Balladen geniessen. \n  \nMister Saxr berührt als leidenschaftlicher Musiker seine Zuhörer mit seinen sanften Saxklängen. Seit Jahren spielt Mister Saxr in verschiedenen Formationen sein Selmer Mark VI. Die grosse Bühnenerfahrung gepaart mit seiner Spielfreude erreichen jedes Publikum. Sein Auftritts-Angebot umfasst jazziges Saxophon zum Apéro und stilvolle Hintergrundmusik. Er spielt traumhafte Bossa-Nova Melodien aus Südamerika und haucht so den Frühling ein. Zu seinem Repertoire gehören aber auch unzählige Pop-Klassiker aus den 80er Jahren.
URL:https://www.saxophonist-live.ch/saxofonist-blog/event/konzert-in-den-innenho%cc%88fen/
LOCATION:Residenz Segeten  Tertianum AG\, Carl-Spitteler-Strasse 70\, Zürich\, ZH\, 8053\, Schweiz
CATEGORIES:MisterSaxr Event
END:VEVENT
END:VCALENDAR