BEGIN:VCALENDAR
VERSION:2.0
PRODID:-//MisterSaxr.ch | saxophonist-LIVE.ch | Blog | Firmenanlass Hochzeiten Events Saxofonist Musiker Saxophonist Schweiz Z&uuml;rich - ECPv6.15.8//NONSGML v1.0//EN
CALSCALE:GREGORIAN
METHOD:PUBLISH
X-WR-CALNAME:MisterSaxr.ch | saxophonist-LIVE.ch | Blog | Firmenanlass Hochzeiten Events Saxofonist Musiker Saxophonist Schweiz Z&uuml;rich
X-ORIGINAL-URL:https://www.saxophonist-live.ch/saxofonist-blog
X-WR-CALDESC:Veranstaltungen für MisterSaxr.ch | saxophonist-LIVE.ch | Blog | Firmenanlass Hochzeiten Events Saxofonist Musiker Saxophonist Schweiz Z&uuml;rich
REFRESH-INTERVAL;VALUE=DURATION:PT1H
X-Robots-Tag:noindex
X-PUBLISHED-TTL:PT1H
BEGIN:VTIMEZONE
TZID:Europe/Zurich
BEGIN:DAYLIGHT
TZOFFSETFROM:+0100
TZOFFSETTO:+0200
TZNAME:CEST
DTSTART:20200329T010000
END:DAYLIGHT
BEGIN:STANDARD
TZOFFSETFROM:+0200
TZOFFSETTO:+0100
TZNAME:CET
DTSTART:20201025T010000
END:STANDARD
BEGIN:DAYLIGHT
TZOFFSETFROM:+0100
TZOFFSETTO:+0200
TZNAME:CEST
DTSTART:20210328T010000
END:DAYLIGHT
BEGIN:STANDARD
TZOFFSETFROM:+0200
TZOFFSETTO:+0100
TZNAME:CET
DTSTART:20211031T010000
END:STANDARD
BEGIN:DAYLIGHT
TZOFFSETFROM:+0100
TZOFFSETTO:+0200
TZNAME:CEST
DTSTART:20220327T010000
END:DAYLIGHT
BEGIN:STANDARD
TZOFFSETFROM:+0200
TZOFFSETTO:+0100
TZNAME:CET
DTSTART:20221030T010000
END:STANDARD
END:VTIMEZONE
BEGIN:VEVENT
DTSTART;TZID=Europe/Zurich:20211107T130000
DTEND;TZID=Europe/Zurich:20211107T160000
DTSTAMP:20260425T045013
CREATED:20211108T141119Z
LAST-MODIFIED:20211108T141119Z
UID:2963-1636290000-1636300800@www.saxophonist-live.ch
SUMMARY:Mister Saxr & Gunvor @ Auto Zürich
DESCRIPTION:Mister Saxr\, der leidenschaftliche Musiker\, bekannt für seine sanften Töne\, stammend aus seinem Tenorsaxofon der Marke Selmer sorgt auch am letzten Abend der Automesse in Zürich für die geeignete musikalische Unterhaltung. Das Besondere an Mister Saxr ist sein Sensorium\, welche Musik zum Anlass am besten passt. \nWie auch schon an der Premiere steht dem Saxofonisten die Sängerin Gunvor zur Seite. \nIn Halle 5\, direkt neben dem Stand der Baumgartner AG von Herrn Peter Krieg\, kommen die Besucher in den Genuss der sanften Töne und Melodien\, welche die einzigartige Stimmung an letzten Abend der Automesse Zürich noch einmal auf einen Höhepunkt heben.
URL:https://www.saxophonist-live.ch/saxofonist-blog/event/mister-saxr-gunvor-auto-zuerich/
LOCATION:Messe Zürich\, Wallisellenstrasse 49\, Zürich\, 8050\, Schweiz
CATEGORIES:MisterSaxr Event
ATTACH;FMTTYPE=image/jpeg:https://www.saxophonist-live.ch/saxofonist-blog/wp-content/uploads/2021/11/AutoZüriGunvor_MisterSaxr2A-Kopie.jpg
END:VEVENT
BEGIN:VEVENT
DTSTART;TZID=Europe/Zurich:20211119T180000
DTEND;TZID=Europe/Zurich:20211119T190000
DTSTAMP:20260425T045013
CREATED:20211108T141905Z
LAST-MODIFIED:20211108T141905Z
UID:2968-1637344800-1637348400@www.saxophonist-live.ch
SUMMARY:Carlsberg Anlass @ Carlton Zürich
DESCRIPTION:Mister Saxr\, leidenschaftliche Saxofonist und Solokünstler\, der seine Zuhörer immer aufs Neue fasziniert. Das breite Repertoire an Bossa Nova\, Pop\, Smooth Jazz\, Evergreens\, Disco und aktuellen Hits aus dem Radio schafft eine einmalige Atmosphäre. Mister Saxr spielt dabei zum wiederholten Male im Carlton Restaurant\, an der weltberühmten Bahnhofstrasse. \nDer bekannte\, dänische Brauereikonzern Carlsberg A/S\, zu dem auch unter anderem auch die Schweizer Marke Feldschlösschen gehört\, lädt seine Kunden zu einem Anlass ins Carlton nach Zürich. \nDie erlesenen Speisen und Getränke\, aus dem preisgekrönten Weinkeller\, des Restaurants und die dadurch einzigartige Stimmung im Saal werden vom passionierten Musiker mit seinem Instrument perfekt abgerundet.
URL:https://www.saxophonist-live.ch/saxofonist-blog/event/kundenanlass-carlton-zuerich/
LOCATION:Carlton Zürich\, Bahnhofstrasse 41\, Zürich\, 8001\, Schweiz
CATEGORIES:MisterSaxr Event
ATTACH;FMTTYPE=image/jpeg:https://www.saxophonist-live.ch/saxofonist-blog/wp-content/uploads/2017/05/MISTERSAXR_Saxophonist_Zuerich_Saxsound_Saxofon_Haug.jpg
END:VEVENT
END:VCALENDAR