BEGIN:VCALENDAR
VERSION:2.0
PRODID:-//MisterSaxr.ch | saxophonist-LIVE.ch | Blog | Firmenanlass Hochzeiten Events Saxofonist Musiker Saxophonist Schweiz Z&uuml;rich - ECPv6.15.8//NONSGML v1.0//EN
CALSCALE:GREGORIAN
METHOD:PUBLISH
X-ORIGINAL-URL:https://www.saxophonist-live.ch/saxofonist-blog
X-WR-CALDESC:Veranstaltungen für MisterSaxr.ch | saxophonist-LIVE.ch | Blog | Firmenanlass Hochzeiten Events Saxofonist Musiker Saxophonist Schweiz Z&uuml;rich
REFRESH-INTERVAL;VALUE=DURATION:PT1H
X-Robots-Tag:noindex
X-PUBLISHED-TTL:PT1H
BEGIN:VTIMEZONE
TZID:Europe/Zurich
BEGIN:DAYLIGHT
TZOFFSETFROM:+0100
TZOFFSETTO:+0200
TZNAME:CEST
DTSTART:20200329T010000
END:DAYLIGHT
BEGIN:STANDARD
TZOFFSETFROM:+0200
TZOFFSETTO:+0100
TZNAME:CET
DTSTART:20201025T010000
END:STANDARD
BEGIN:DAYLIGHT
TZOFFSETFROM:+0100
TZOFFSETTO:+0200
TZNAME:CEST
DTSTART:20210328T010000
END:DAYLIGHT
BEGIN:STANDARD
TZOFFSETFROM:+0200
TZOFFSETTO:+0100
TZNAME:CET
DTSTART:20211031T010000
END:STANDARD
BEGIN:DAYLIGHT
TZOFFSETFROM:+0100
TZOFFSETTO:+0200
TZNAME:CEST
DTSTART:20220327T010000
END:DAYLIGHT
BEGIN:STANDARD
TZOFFSETFROM:+0200
TZOFFSETTO:+0100
TZNAME:CET
DTSTART:20221030T010000
END:STANDARD
BEGIN:DAYLIGHT
TZOFFSETFROM:+0100
TZOFFSETTO:+0200
TZNAME:CEST
DTSTART:20230326T010000
END:DAYLIGHT
BEGIN:STANDARD
TZOFFSETFROM:+0200
TZOFFSETTO:+0100
TZNAME:CET
DTSTART:20231029T010000
END:STANDARD
END:VTIMEZONE
BEGIN:VEVENT
DTSTART;TZID=Europe/Zurich:20211231T180000
DTEND;TZID=Europe/Zurich:20220101T010000
DTSTAMP:20260425T020842
CREATED:20201117T131401Z
LAST-MODIFIED:20220204T081519Z
UID:2792-1640973600-1640998800@www.saxophonist-live.ch
SUMMARY:Mister Saxr @ HAUTE Silvester-Gala
DESCRIPTION:Mister Saxr\, der leidenschaftliche Saxophonist\, ist prädestiniert für eine Silvester-Gala der Extraklasse. Mit seiner breiten musikalischen Palette von begleitender Tischmusik über Sax-Klassikern bis hin Party-Songs aus über vier Jahrzehnten. Vom frühen Abend bis nach Mitternacht\, Mister Saxr trifft den Geschmack der Festgesellschaft. \nZusammen mit Mister Saxr bieten das Restaurant und Bar Haute in Zürich\, mit einer Aussicht über die Stadt und Zürichsee bis hin zu den Alpen und den passenden Melodien aus dem Saxophon\, seinen Gästen ein unvergleichbares Erlebnis über den Dächern der grössten Schweizer Stadt. Unbeschwert und von der Musik geleitet können die Gäste so entspannt ins neue Jahr starten.
URL:https://www.saxophonist-live.ch/saxofonist-blog/event/silvester-gala-2/
LOCATION:Haute SA\, Talstrasse 65\, Zürich\, 8001\, Schweiz
CATEGORIES:MisterSaxr Event
ATTACH;FMTTYPE=image/jpeg:https://www.saxophonist-live.ch/saxofonist-blog/wp-content/uploads/2020/07/MRSaxr_Nyssina_Flavio_Trio.jpg
END:VEVENT
END:VCALENDAR