BEGIN:VCALENDAR
VERSION:2.0
PRODID:-//MisterSaxr.ch | saxophonist-LIVE.ch | Blog | Firmenanlass Hochzeiten Events Saxofonist Musiker Saxophonist Schweiz Z&uuml;rich - ECPv6.15.8//NONSGML v1.0//EN
CALSCALE:GREGORIAN
METHOD:PUBLISH
X-WR-CALNAME:MisterSaxr.ch | saxophonist-LIVE.ch | Blog | Firmenanlass Hochzeiten Events Saxofonist Musiker Saxophonist Schweiz Z&uuml;rich
X-ORIGINAL-URL:https://www.saxophonist-live.ch/saxofonist-blog
X-WR-CALDESC:Veranstaltungen für MisterSaxr.ch | saxophonist-LIVE.ch | Blog | Firmenanlass Hochzeiten Events Saxofonist Musiker Saxophonist Schweiz Z&uuml;rich
REFRESH-INTERVAL;VALUE=DURATION:PT1H
X-Robots-Tag:noindex
X-PUBLISHED-TTL:PT1H
BEGIN:VTIMEZONE
TZID:Europe/Zurich
BEGIN:DAYLIGHT
TZOFFSETFROM:+0100
TZOFFSETTO:+0200
TZNAME:CEST
DTSTART:20210328T010000
END:DAYLIGHT
BEGIN:STANDARD
TZOFFSETFROM:+0200
TZOFFSETTO:+0100
TZNAME:CET
DTSTART:20211031T010000
END:STANDARD
BEGIN:DAYLIGHT
TZOFFSETFROM:+0100
TZOFFSETTO:+0200
TZNAME:CEST
DTSTART:20220327T010000
END:DAYLIGHT
BEGIN:STANDARD
TZOFFSETFROM:+0200
TZOFFSETTO:+0100
TZNAME:CET
DTSTART:20221030T010000
END:STANDARD
BEGIN:DAYLIGHT
TZOFFSETFROM:+0100
TZOFFSETTO:+0200
TZNAME:CEST
DTSTART:20230326T010000
END:DAYLIGHT
BEGIN:STANDARD
TZOFFSETFROM:+0200
TZOFFSETTO:+0100
TZNAME:CET
DTSTART:20231029T010000
END:STANDARD
END:VTIMEZONE
BEGIN:VEVENT
DTSTART;TZID=Europe/Zurich:20220311T180000
DTEND;TZID=Europe/Zurich:20220311T220000
DTSTAMP:20260424T233037
CREATED:20220225T102307Z
LAST-MODIFIED:20220225T114329Z
UID:3069-1647021600-1647036000@www.saxophonist-live.ch
SUMMARY:Firmenanlass smartPLACE AG
DESCRIPTION:Firmenanlass mit geladenen Gästen \nhttps://www.smartplace.ch/showrooms \nMister Saxr\, der leidesnschaftliche Musiker aus Zürich\, beeindruckt immer wieder aufs Neue mit seinen feinen Melodien und Liedern. Zusammen mit seinem Instrument einem Tenor-Sax Typ VI aus dem Hause Selmer\, spielt er die schönsten Saxophon-Songs aller Genres. Bossa-Nova\, Smooth Jazz aber auch Rock\, Pop oder Disco um nur einige zu nennen. Ganz dem Anlass entsprechend kann Mister Saxr sein Programm ganz nach dem Publikum richten. \nDie smartPlace AG in Adliswil\, Zürich\, lädt zu einem Firmenanlass in Ihrem einzigartigen Showroom und bieten Mister Saxr optimale Rahmenbedingungen für einen unvergesslichen Auftritt. Innovative Technik und Mister Saxr’s Musik versprechen einen unvergesslichen und interessanten Abend.
URL:https://www.saxophonist-live.ch/saxofonist-blog/event/firmenanlass-smartplace-ag/
LOCATION:smartPLACE AG\, Albisstrasse 33B\, Adliswil\, 8134\, Schweiz
CATEGORIES:MisterSaxr Event
ATTACH;FMTTYPE=image/jpeg:https://www.saxophonist-live.ch/saxofonist-blog/wp-content/uploads/2016/10/saxophon.jpg
END:VEVENT
END:VCALENDAR