BEGIN:VCALENDAR
VERSION:2.0
PRODID:-//MisterSaxr.ch | saxophonist-LIVE.ch | Blog | Firmenanlass Hochzeiten Events Saxofonist Musiker Saxophonist Schweiz Z&uuml;rich - ECPv6.15.8//NONSGML v1.0//EN
CALSCALE:GREGORIAN
METHOD:PUBLISH
X-WR-CALNAME:MisterSaxr.ch | saxophonist-LIVE.ch | Blog | Firmenanlass Hochzeiten Events Saxofonist Musiker Saxophonist Schweiz Z&uuml;rich
X-ORIGINAL-URL:https://www.saxophonist-live.ch/saxofonist-blog
X-WR-CALDESC:Veranstaltungen für MisterSaxr.ch | saxophonist-LIVE.ch | Blog | Firmenanlass Hochzeiten Events Saxofonist Musiker Saxophonist Schweiz Z&uuml;rich
REFRESH-INTERVAL;VALUE=DURATION:PT1H
X-Robots-Tag:noindex
X-PUBLISHED-TTL:PT1H
BEGIN:VTIMEZONE
TZID:Europe/Zurich
BEGIN:DAYLIGHT
TZOFFSETFROM:+0100
TZOFFSETTO:+0200
TZNAME:CEST
DTSTART:20210328T010000
END:DAYLIGHT
BEGIN:STANDARD
TZOFFSETFROM:+0200
TZOFFSETTO:+0100
TZNAME:CET
DTSTART:20211031T010000
END:STANDARD
BEGIN:DAYLIGHT
TZOFFSETFROM:+0100
TZOFFSETTO:+0200
TZNAME:CEST
DTSTART:20220327T010000
END:DAYLIGHT
BEGIN:STANDARD
TZOFFSETFROM:+0200
TZOFFSETTO:+0100
TZNAME:CET
DTSTART:20221030T010000
END:STANDARD
BEGIN:DAYLIGHT
TZOFFSETFROM:+0100
TZOFFSETTO:+0200
TZNAME:CEST
DTSTART:20230326T010000
END:DAYLIGHT
BEGIN:STANDARD
TZOFFSETFROM:+0200
TZOFFSETTO:+0100
TZNAME:CET
DTSTART:20231029T010000
END:STANDARD
BEGIN:DAYLIGHT
TZOFFSETFROM:+0100
TZOFFSETTO:+0200
TZNAME:CEST
DTSTART:20240331T010000
END:DAYLIGHT
BEGIN:STANDARD
TZOFFSETFROM:+0200
TZOFFSETTO:+0100
TZNAME:CET
DTSTART:20241027T010000
END:STANDARD
END:VTIMEZONE
BEGIN:VEVENT
DTSTART;TZID=Europe/Zurich:20221231T180000
DTEND;TZID=Europe/Zurich:20230101T010000
DTSTAMP:20260424T102012
CREATED:20220304T114728Z
LAST-MODIFIED:20221219T133811Z
UID:3099-1672509600-1672534800@www.saxophonist-live.ch
SUMMARY:Mister Saxr @ HAUTE Silvester-Gala
DESCRIPTION:Mister Saxr der Leidenschaftliche Saxophonist wird nach 2021 auch in diesem Jahr an der Silvesterfeier im Haute\, in Zürich\, die Gäste mit seinem musikalischen Können verführen. \nMister Saxr spielt entspannte Begleitmusik zum Apéro und Essen bestehend aus Smoth-Jazz Bossa-Nova und weiteren. Danach zeigt Mister Saxr sein ganzes Können. Die Feiernden kommen in den Genuss von Pop\, Rock\, Dance/Disco aber auch aktuellen Hits sowie den schönsten Evergreens aller Zeiten. \nZusammen mit Mister Saxr bieten das Restaurant und Bar Haute in Zürich\, mit einer Aussicht über die Stadt und Zürichsee bis hin zu den Alpen und den passenden Melodien aus dem Saxophon\, seinen Gästen ein unvergleichbares Erlebnis über den Dächern der grössten Schweizer Stadt. Unbeschwert und von der Musik geleitet können die Gäste so entspannt ins neue Jahr starten.
URL:https://www.saxophonist-live.ch/saxofonist-blog/event/mister-saxr-haute-silvester-gala/
LOCATION:Haute SA\, Talstrasse 65\, Zürich\, 8001\, Schweiz
CATEGORIES:MisterSaxr Event
ATTACH;FMTTYPE=image/jpeg:https://www.saxophonist-live.ch/saxofonist-blog/wp-content/uploads/2022/12/Mister-SAXR-Razzia.jpg
END:VEVENT
END:VCALENDAR