BEGIN:VCALENDAR
VERSION:2.0
PRODID:-//MisterSaxr.ch | saxophonist-LIVE.ch | Blog | Firmenanlass Hochzeiten Events Saxofonist Musiker Saxophonist Schweiz Z&uuml;rich - ECPv6.15.8//NONSGML v1.0//EN
CALSCALE:GREGORIAN
METHOD:PUBLISH
X-WR-CALNAME:MisterSaxr.ch | saxophonist-LIVE.ch | Blog | Firmenanlass Hochzeiten Events Saxofonist Musiker Saxophonist Schweiz Z&uuml;rich
X-ORIGINAL-URL:https://www.saxophonist-live.ch/saxofonist-blog
X-WR-CALDESC:Veranstaltungen für MisterSaxr.ch | saxophonist-LIVE.ch | Blog | Firmenanlass Hochzeiten Events Saxofonist Musiker Saxophonist Schweiz Z&uuml;rich
REFRESH-INTERVAL;VALUE=DURATION:PT1H
X-Robots-Tag:noindex
X-PUBLISHED-TTL:PT1H
BEGIN:VTIMEZONE
TZID:Europe/Zurich
BEGIN:DAYLIGHT
TZOFFSETFROM:+0100
TZOFFSETTO:+0200
TZNAME:CEST
DTSTART:20220327T010000
END:DAYLIGHT
BEGIN:STANDARD
TZOFFSETFROM:+0200
TZOFFSETTO:+0100
TZNAME:CET
DTSTART:20221030T010000
END:STANDARD
BEGIN:DAYLIGHT
TZOFFSETFROM:+0100
TZOFFSETTO:+0200
TZNAME:CEST
DTSTART:20230326T010000
END:DAYLIGHT
BEGIN:STANDARD
TZOFFSETFROM:+0200
TZOFFSETTO:+0100
TZNAME:CET
DTSTART:20231029T010000
END:STANDARD
BEGIN:DAYLIGHT
TZOFFSETFROM:+0100
TZOFFSETTO:+0200
TZNAME:CEST
DTSTART:20240331T010000
END:DAYLIGHT
BEGIN:STANDARD
TZOFFSETFROM:+0200
TZOFFSETTO:+0100
TZNAME:CET
DTSTART:20241027T010000
END:STANDARD
END:VTIMEZONE
BEGIN:VEVENT
DTSTART;TZID=Europe/Zurich:20230805T180000
DTEND;TZID=Europe/Zurich:20230805T220000
DTSTAMP:20260424T011759
CREATED:20230803T080804Z
LAST-MODIFIED:20230803T080804Z
UID:3598-1691258400-1691272800@www.saxophonist-live.ch
SUMMARY:Apéro Golfturnier @ Dolder Golfclub Zürich
DESCRIPTION:Für das bevorstehende private Golfturnier im renommierten Dolder Golfclub Zürich wurde Mister Saxr eingeladen\, um die Veranstaltung mit seinem musikalischen Talent zu bereichern. Der Golfclub gehört zu den ältesten privaten Golfclubs der Schweiz und ist für seine malerische Umgebung am Südhang des Adlisbergs bekannt\, exklusiv für Member und Gäste des bekannten Grand Hotels. Die atemberaubende Aussicht auf den Uetliberg\, den Zürichsee und die Stadt Zürich schafft eine einzigartige Kulisse für das Turnier. Das Clubhaus des Dolder Golfclubs mit seinem hervorragenden Restaurant bietet den Gästen eine erstklassige Verköstigung\, umgeben von einer einladenden und entspannten Atmosphäre. Der anspruchsvolle 9-Loch-Platz lädt zu spannenden und attraktiven Golfpartien ein\, bei denen sich die Spielerinnen und Spieler messen können. Mister Saxr wird die Gäste mit seiner musikalischen Darbietung in eine Welt voller Eleganz und Exklusivität entführen. Die harmonischen Klänge seines Saxophons fügen sich perfekt in die zauberhafte Umgebung des Golfclubs ein und verleihen dem Abend einen zusätzlichen Hauch von Stil und Klasse. \nMister Saxr ist ein wahrer Virtuose am Saxophon und seine Leidenschaft für die Musik ist unverkennbar. Seinem einzigartigen Saxophon vom Typ Supreme dem aus renommierten Hause Selmer entlockt er sanfte und wohlklingende Töne\, die die Zuhörer in ihren Bann ziehen. Sein Repertoire reicht dabei über die letzten sechs Musik-Jahrzehnte und er verleiht jedem Stück eine individuelle Note\, die es zu einem unvergesslichen Höhepunkt macht. \nDas Programm von Mister Saxr ist äusserst flexibel und kann auf jeden Wunsch und Anlass individuell abgestimmt werden. Ob es sich um eine private Feier\, eine Firmenveranstaltung oder ein exklusives Golfturnier handelt\, seine Musik verleiht jedem Ereignis eine gehobene und elegante Atmosphäre. \nDas kleine Paradies des Dolder Golfclubs ist nicht nur ein Ort für sportliche Herausforderungen\, sondern auch eine ideale Lokalität für Anlässe und Feiern im privaten als auch geschäftlichen Rahmen. Die atemberaubende Landschaft und das einzigartige Ambiente schaffen eine unvergessliche Atmosphäre für die Gäste. Die feine Verköstigung mit erlesenen Weinen und köstlichen Speisen lässt keine Wünsche offen und wird von der wunderbaren Musik von Mister Saxr perfekt abgerundet. \nDie Kombination aus herausforderndem Golfspiel\, malerischer Umgebung\, exquisiter Verpflegung und der feinen Musik von Mister Saxr verspricht ein unvergessliches Erlebnis\, das die Sinne begeistern wird. So können wir mit Zuversicht\, dass dieser Abend allen Sportbegeisterten und Gästen in lebhafter Erinnerung bleiben wird\, uns auf diesen Tag im August freuen.
URL:https://www.saxophonist-live.ch/saxofonist-blog/event/apero-golfturnier-dolder-golfclub-zuerich/
LOCATION:Dolder Golfclub Zürich\, Kurhausstrasse 66\, Zürich\, Zürich\, 8032\, Schweiz
CATEGORIES:MisterSaxr Event
END:VEVENT
BEGIN:VEVENT
DTSTART;TZID=Europe/Zurich:20230819T183000
DTEND;TZID=Europe/Zurich:20230820T010000
DTSTAMP:20260424T011759
CREATED:20230714T095424Z
LAST-MODIFIED:20230714T095445Z
UID:3579-1692469800-1692493200@www.saxophonist-live.ch
SUMMARY:Mister Saxr an der Swiss Grammy Party
DESCRIPTION:Mister Saxr an der Swiss Grammy Party \nMister Saxr\, der leidenschaftliche Saxophonist und passionierte Live-Musiker. Seine Auftritte sind geprägt von packenden und mitreissenden Saxmelodien\, gespielt auf seinem neusten Sax-Model\, dem Selmer Supreme. Mister Saxr verfügt über ein breites Repertoire und kann so vollkommen auf die Stimmung und das Ambiente eingehen. Sein Bühnenprogramm ist individuell auf jeden Anlass abstimmbar. Ob Pop oder Rock\, R’n’B\, Dance und Disco\, Mister Saxr und sein Saxophon harmonieren perfekt. Jeder seiner Songs bekommt durch die einzigartige und spezielle Tonlage des Saxophons eine individuelle Note\, was selbst altbekannte Klassiker und Evergreens zu einem noch nie dagewesenen Erlebnis macht. \nDie Rebel & Caviar Night in Zürich\, ein exklusiver Event\, der Eleganz\, Glamour und erstklassige Unterhaltung vereint. Diese Veranstaltung\, organisiert vom legendären Al Walser\, einem renommierten schweiz-liechtensteinischen Musikproduzenten und DJ\, verspricht eine unvergessliche Nacht voller Stil und Luxus. Neben seiner legendären «The Soirée»\, einer Pre-Party zu den Grammy-Awards\, stellt die Rebel & Caviar Night einen weiteren Höhepunkt im Terminkalender des Produzenten dar. \nAl Walser\, bekannt für seine herausragenden Errungenschaften in der Musikindustrie\, hat mit seinen einzigartigen Produktionen nationale und internationale Anerkennung erlangt. Im Jahr 2012 wurde er für den Grammy Award in der Kategorie “Best Dance Recording” nominiert. Sein Track “I Can’t Live Without You” erregte weltweite Aufmerksamkeit und brachte ihm eine internationale Fangemeinde ein. \nAl Walser konnte sich den begehrten Grammy bereits kurz später sichern. Der Liechtensteiner gewann den Award durch seine Mitwirkung am Song Presidential Suite: Eight Variations on Freedom von Ted Nash. Das Album überzeugte in der Kategorie Best Large Jazz Ensemble Album\, im Jahre 2017. \nDiese exklusive Veranstaltung zieht Gäste aus der High Society\, dem Showbusiness und der Modebranche an und findet in einem luxuriösen Eventcenter im Herzen von Zürich statt. Dort erwartet die Gäste eine opulente Dekoration mit funkelnden Kronleuchtern\, edlen Lounges und einer erlesenen Auswahl an Champagner und Weinen. \nDie Rebel & Caviar Night bietet neben Al Walser und seinem musikalischen Beitrag auch ein atemberaubendes Unterhaltungsprogramm. Von Live-Bands über renommierte DJs bis hin zu spektakulären Tanzaufführungen wird den Gästen ein abwechslungsreiches und mitreissendes Programm geboten. \nDas kulinarische Erlebnis ist ebenfalls von höchster Qualität. Feinste Speisen wie Kaviar-Häppchen\, Meeresfrüchte und Gourmet-Käseplatten verwöhnen die Gaumen der Gäste. Die Auswahl an exquisiten Delikatessen lässt keine Wünsche offen und verspricht einen wahrhaft luxuriösen Genuss. Die Atmosphäre bei der Rebel & Caviar Night ist pulsierend und glamourös. Das elegante Publikum\, darunter Gäste aus Kunst\, Mode und Kultur\, mischt sich\, tauscht sich über die neuesten Trends aus und knüpft wertvolle Kontakte. Es ist eine Gelegenheit\, sich in diskreter und stilvoller Umgebung zu amüsieren und den Alltag hinter sich zu lassen. \nDie Rebel & Caviar Night ist zweifellos ein “Must-Attend-Event” im Veranstaltungskalender von Zürich. Gäste können eine Nacht voller Eleganz\, Extravaganz und erstklassiger Unterhaltung erleben\, umgeben von Gleichgesinnten. Es ist die perfekte Gelegenheit\, sich von der mitreissenden Musik\, den köstlichen Speisen und der exklusiven Atmosphäre verzaubern zu lassen.
URL:https://www.saxophonist-live.ch/saxofonist-blog/event/mister-saxr-an-der-swiss-grammy-party/
LOCATION:Fame Gallery\, Talstrasse 9\, Zürich\, 8001\, Schweiz
CATEGORIES:MisterSaxr Event
ATTACH;FMTTYPE=image/jpeg:https://www.saxophonist-live.ch/saxofonist-blog/wp-content/uploads/2023/07/Mister-Saxr_Saxophonist_Rebel_Caviar_Night2.jpg
END:VEVENT
END:VCALENDAR