BEGIN:VCALENDAR
VERSION:2.0
PRODID:-//MisterSaxr.ch | saxophonist-LIVE.ch | Blog | Firmenanlass Hochzeiten Events Saxofonist Musiker Saxophonist Schweiz Z&uuml;rich - ECPv6.15.8//NONSGML v1.0//EN
CALSCALE:GREGORIAN
METHOD:PUBLISH
X-ORIGINAL-URL:https://www.saxophonist-live.ch/saxofonist-blog
X-WR-CALDESC:Veranstaltungen für MisterSaxr.ch | saxophonist-LIVE.ch | Blog | Firmenanlass Hochzeiten Events Saxofonist Musiker Saxophonist Schweiz Z&uuml;rich
REFRESH-INTERVAL;VALUE=DURATION:PT1H
X-Robots-Tag:noindex
X-PUBLISHED-TTL:PT1H
BEGIN:VTIMEZONE
TZID:Europe/Zurich
BEGIN:DAYLIGHT
TZOFFSETFROM:+0100
TZOFFSETTO:+0200
TZNAME:CEST
DTSTART:20230326T010000
END:DAYLIGHT
BEGIN:STANDARD
TZOFFSETFROM:+0200
TZOFFSETTO:+0100
TZNAME:CET
DTSTART:20231029T010000
END:STANDARD
BEGIN:DAYLIGHT
TZOFFSETFROM:+0100
TZOFFSETTO:+0200
TZNAME:CEST
DTSTART:20240331T010000
END:DAYLIGHT
BEGIN:STANDARD
TZOFFSETFROM:+0200
TZOFFSETTO:+0100
TZNAME:CET
DTSTART:20241027T010000
END:STANDARD
BEGIN:DAYLIGHT
TZOFFSETFROM:+0100
TZOFFSETTO:+0200
TZNAME:CEST
DTSTART:20250330T010000
END:DAYLIGHT
BEGIN:STANDARD
TZOFFSETFROM:+0200
TZOFFSETTO:+0100
TZNAME:CET
DTSTART:20251026T010000
END:STANDARD
END:VTIMEZONE
BEGIN:VEVENT
DTSTART;TZID=Europe/Zurich:20240609T160000
DTEND;TZID=Europe/Zurich:20240609T180000
DTSTAMP:20260423T102620
CREATED:20240219T144737Z
LAST-MODIFIED:20240219T144737Z
UID:3770-1717948800-1717956000@www.saxophonist-live.ch
SUMMARY:Haug-Cup Trophy Special Event @ Dolder Goflcub Zürich
DESCRIPTION:Mister Saxr\, der talentierte Zürcher Saxophonist\, kehrt erneut zum Dolder Golfclub zurück\, wo er bereits mehrere Golfturniere mit seinem einzigartigen musikalischen Flair bereichert hat. Doch dieses Mal steht etwas Besonderes auf dem Programm: die Haug-Cup Trophy\, ein Event von persönlicher Bedeutung\, das dieses Jahr von seiner Familie organisiert wird. Es ist eine Ehre für Mister Saxr\, Teil dieses besonderen Anlasses zu sein. Seine Musik wird die Atmosphäre des Turniers bereichern und den Tag mit einer Note von Eleganz und Raffinesse unterstreichen. \nAls erfahrener Saxophonist weiss Mister Saxr genau\, wie er die Stimmung eines Events einfangen und verstärken kann. Seine Melodien werden die Spieler und Zuschauer gleichermassen begeistern und eine Aura von Entspannung und Freude schaffen. Die Haug-Cup Trophy verspricht ein Tag voller Spannung\, Freundschaft und sportlichem Ehrgeiz zu werden\, und mit Mister Saxr als musikalischem Begleiter wird dieses Event sicherlich in bester Erinnerung bleiben. \nDer Dolder Golfclub\, idyllisch gelegen in der Nähe von Zürich\, ist ein Paradies für Golfliebhaber und bietet eine einzigartige Kombination aus herausfordernden Golfplätzen und atemberaubender Naturkulisse. Mit seinen gepflegten Fairways\, malerischen Seen und herrlichen Ausblicken auf die Alpen ist der Dolder Golfclub nicht nur ein Ort des Sports\, sondern auch der Erholung und Entspannung. Das Clubhaus\, ein architektonisches Juwel\, bietet eine exklusive Atmosphäre für Golfer und Gäste gleichermassen. Hier können sie sich nach einer Runde Golf entspannen\, die köstliche Küche geniessen und den Tag in geselliger Runde ausklingen lassen. \nDer Dolder Golfclub ist auch bekannt für seine erstklassigen Veranstaltungen und Turniere\, die das ganze Jahr über stattfinden. Von prestigeträchtigen Meisterschaften bis hin zu geselligen Clubwettbewerben bietet der Club eine Vielzahl von Möglichkeiten\, um das Golfspiel zu geniessen und neue Freundschaften zu knüpfen. Ob erfahrener Golfer oder Anfänger\, der Dolder Golfclub heisst alle herzlich willkommen und lädt dazu ein\, die Schönheit des Golfsports in einer einladenden und inspirierenden Umgebung zu erleben. \nLasst uns gemeinsam den Klang von Mister Saxrs Saxophon geniessen und diesen besonderen Tag im Dolder Golfclub in vollen Zügen feiern!
URL:https://www.saxophonist-live.ch/saxofonist-blog/event/haug-cup-trophy-special-event-dolder-goflcub-zuerich/
LOCATION:Dolder Golfclub Zürich\, Kurhausstrasse 66\, Zürich\, Zürich\, 8032\, Schweiz
CATEGORIES:MisterSaxr Event
ATTACH;FMTTYPE=image/jpeg:https://www.saxophonist-live.ch/saxofonist-blog/wp-content/uploads/2023/08/Mister_Saxr_Saxophonist_Sax_Schweiz_Zuerich_Events_Musik.jpg
END:VEVENT
BEGIN:VEVENT
DTSTART;TZID=Europe/Zurich:20240613T180000
DTEND;TZID=Europe/Zurich:20240613T220000
DTSTAMP:20260423T102620
CREATED:20240515T112318Z
LAST-MODIFIED:20240515T113902Z
UID:3828-1718301600-1718316000@www.saxophonist-live.ch
SUMMARY:Exklusiver Abend mit Mister Saxr im Sablier Rooftop
DESCRIPTION:Am 13. Juni 2024 findet im Sablier Rooftop am internationalen Flughafen Zürich eine private Veranstaltung mit Mister Saxr statt. Dieser Abend bietet den geladenen Gästen eine besondere musikalische Erfahrung\, untermalt von den sanften Klängen des Saxophons. Das Sablier Rooftop\, bekannt für seine spektakuläre Aussicht und exquisite Atmosphäre\, setzt den Rahmen für diesen Anlass. \nDas Sablier Rooftop bietet eine atemberaubende Panoramaaussicht auf die Landebahnen des Flughafens Zürich und die umliegenden Landschaften. Mit seiner eleganten Einrichtung und der entspannten Atmosphäre ist es der perfekte Ort\, um sich nach einem langen Tag zu erholen oder eine besondere Nacht auszuklingen zu lassen. Die Speisekarte umfasst feinste kulinarische Köstlichkeiten und eine Auswahl an erstklassigen Getränken. \nAls Teil der renommierten Segmüller Collection repräsentiert das Sablier Luxus in entspannter Form und gehört zusammen mit Einrichtungen wie dem Carlton\, Adlisberg\, James Joyce\, La Bottega di Mario\, Fujiya of Japan\, Loft Five und dem Roof Garden zu den exquisiten Veranstaltungsorten. \nDer Abend bietet eine Gelegenheit\, in privatem Rahmen geschäftliche Kontakte zu pflegen und die Sinne anzusprechen. Die musikalische Darbietung von Mister Saxr\, der mit seinem Selmer Mark VI Saxophon auftritt\, verspricht ein harmonisches Erlebnis in einer der stilvollsten Locations der Stadt. Mister Saxr berührt als leidenschaftlicher Musiker seine Zuhörer in Zug mit seinen sanften Saxklängen. Sein breites Repertoire reicht von Bossa Nova\, Jazz-Standards\, Smooth-Lounge\, Pop-Klassikern\, Lovesongs bis zu Disco-Krachern. Mister Saxr erfüllt Musikwünsche sehr gerne.
URL:https://www.saxophonist-live.ch/saxofonist-blog/event/exklusiver-abend-mit-mister-saxr-im-sablier-rooftop/
LOCATION:Sablier Rooftop Restaurant\, The circle 23\, Zürich-Flughafen\, 8058\, Schweiz
CATEGORIES:MisterSaxr Event
ATTACH;FMTTYPE=image/jpeg:https://www.saxophonist-live.ch/saxofonist-blog/wp-content/uploads/2017/05/MISTERSAXR_Saxophonist_Zuerich_Saxsound_Saxofon_Haug.jpg
END:VEVENT
END:VCALENDAR