BEGIN:VCALENDAR
VERSION:2.0
PRODID:-//MisterSaxr.ch | saxophonist-LIVE.ch | Blog | Firmenanlass Hochzeiten Events Saxofonist Musiker Saxophonist Schweiz Z&uuml;rich - ECPv6.15.8//NONSGML v1.0//EN
CALSCALE:GREGORIAN
METHOD:PUBLISH
X-WR-CALNAME:MisterSaxr.ch | saxophonist-LIVE.ch | Blog | Firmenanlass Hochzeiten Events Saxofonist Musiker Saxophonist Schweiz Z&uuml;rich
X-ORIGINAL-URL:https://www.saxophonist-live.ch/saxofonist-blog
X-WR-CALDESC:Veranstaltungen für MisterSaxr.ch | saxophonist-LIVE.ch | Blog | Firmenanlass Hochzeiten Events Saxofonist Musiker Saxophonist Schweiz Z&uuml;rich
REFRESH-INTERVAL;VALUE=DURATION:PT1H
X-Robots-Tag:noindex
X-PUBLISHED-TTL:PT1H
BEGIN:VTIMEZONE
TZID:Europe/Zurich
BEGIN:DAYLIGHT
TZOFFSETFROM:+0100
TZOFFSETTO:+0200
TZNAME:CEST
DTSTART:20230326T010000
END:DAYLIGHT
BEGIN:STANDARD
TZOFFSETFROM:+0200
TZOFFSETTO:+0100
TZNAME:CET
DTSTART:20231029T010000
END:STANDARD
BEGIN:DAYLIGHT
TZOFFSETFROM:+0100
TZOFFSETTO:+0200
TZNAME:CEST
DTSTART:20240331T010000
END:DAYLIGHT
BEGIN:STANDARD
TZOFFSETFROM:+0200
TZOFFSETTO:+0100
TZNAME:CET
DTSTART:20241027T010000
END:STANDARD
BEGIN:DAYLIGHT
TZOFFSETFROM:+0100
TZOFFSETTO:+0200
TZNAME:CEST
DTSTART:20250330T010000
END:DAYLIGHT
BEGIN:STANDARD
TZOFFSETFROM:+0200
TZOFFSETTO:+0100
TZNAME:CET
DTSTART:20251026T010000
END:STANDARD
END:VTIMEZONE
BEGIN:VEVENT
DTSTART;TZID=Europe/Zurich:20240817T170000
DTEND;TZID=Europe/Zurich:20240817T230000
DTSTAMP:20260421T092718
CREATED:20240205T110919Z
LAST-MODIFIED:20240205T132305Z
UID:3753-1723914000-1723935600@www.saxophonist-live.ch
SUMMARY:Eine unvergessliche Geburtstagsfeier mit Mister Saxr
DESCRIPTION:Am 17. August 2024 findet im Restaurant Chicago 1928 in Zürich Oerlikon’s Halle 550 eine private Geburtstagsfeier statt\, die mit dem Saxophonisten Mister Saxr zu einem unvergesslichen Erlebnis werden wird. \nDie Halle 550 in Zürich Oerlikon ist bereits heute für ihre vielfältigen Möglichkeiten und ihr modernes Ambiente bekannt. Mit einem Hauch von Vintage-Charme bietet sie den idealen Rahmen für besondere Anlässe. Mister Saxr\, der talentierte Saxophonist aus Zürich\, wird die Veranstaltung mit seiner einzigartigen musikalischen Begleitung krönen. \nEr wird die Bühne im Restaurant Chicago 1928 betreten und die Gäste mit seinen Saxophonklängen in eine andere Welt entführen. Seine Musik wird eine Hommage an die Jazz-Ära sein und das Ambiente des Restaurants perfekt ergänzen. Die Gäste werden in eine Zeitreise durch die musikalischen Höhepunkte der Vergangenheit eintauchen\, während sie sich von den eleganten Klängen und der virtuosen Performance von Mister Saxr verzaubern lassen. \nDie Geburtstagsfeier wird zu einem unvergesslichen Erlebnis\, wenn Mister Saxr seine Melodien erklingen lässt. Die Gäste werden von der Magie seiner Musik ergriffen und in eine Atmosphäre der Eleganz und des Genusses gehüllt. Das Saxophonspiel von Mister Saxr wird nicht nur eine musikalische Darbietung sein\, sondern auch eine emotionale Reise\, die die Stimmung auf ein höheres Niveau hebt. \nDer Gastgeber und seine Gäste werden gemeinsam mit Mister Saxr den Abend in vollen Zügen geniessen und sich von der Musik verbinden lassen. \nWenn auch Sie eine unvergessliche Veranstaltung oder Feier planen\, sollten Sie Mister Saxr\, den Saxophonisten aus Zürich\, in Betracht ziehen. Seine Leidenschaft und sein Talent werden sicherstellen\, dass Ihr Event zu einem Highlight wird\, das die Gäste noch lange in Erinnerung behalten werden. \nLassen Sie uns gespannt auf die kommenden musikalischen Abenteuer blicken… \n 
URL:https://www.saxophonist-live.ch/saxofonist-blog/event/eine-unvergessliche-geburtstagsfeier-mit-mister-saxr/
LOCATION:Chicago 1928\, Birchstrasse 150\, Zürich\, ZH\, 8050\, Schweiz
CATEGORIES:MisterSaxr Event
ATTACH;FMTTYPE=image/jpeg:https://www.saxophonist-live.ch/saxofonist-blog/wp-content/uploads/2017/06/mistersaxr-2.jpg
END:VEVENT
BEGIN:VEVENT
DTSTART;TZID=Europe/Zurich:20240824T180000
DTEND;TZID=Europe/Zurich:20240825T000000
DTSTAMP:20260421T092718
CREATED:20240506T142456Z
LAST-MODIFIED:20240821T131352Z
UID:3821-1724522400-1724544000@www.saxophonist-live.ch
SUMMARY:Sommerliche Saxophonklänge: Mister Saxr verzaubert Wald
DESCRIPTION:Die Sonne senkt sich langsam hinter den majestätischen Hügeln des Zürichsees\, während die sanften Klänge eines Saxophon s die Luft erfüllen. Es ist ein besonderer Abend im idyllischen Wald\, Zürich\, wo die Menschen sich versammeln\, um den Sommer in vollen Zügen zu geniessen. Und wer könnte diesen Moment besser untermalen als Mister Saxr? \nMister Saxr\, ein Meister seines Fachs\, steht bereit\, um die Gäste dieses exklusiven Privatanlasses mit seiner musikalischen Virtuosität zu verzaubern. Vor ihm breitet sich eine atemberaubende Kulisse aus: das glitzernde Wasser des Sees\, das von den letzten Sonnenstrahlen des Tages geküsst wird\, und die sich langsam verdunkelnden Umrisse der Stadt Zürich am Horizont. \nWährend die Gäste sich in ihren Sesseln entspannen und den Blick auf den See geniessen\, beginnt Mister Saxr seine Performance. Seine Melodien sind wie Balsam für die Seele\, sie fangen die Stimmung des Abends perfekt ein – mal sanft und melancholisch\, dann wieder voller Lebensfreude und Leidenschaft. Jeder Ton\, den er spielt\, ist wie ein Hauch von Magie\, der die Luft erfüllt und die Herzen der Zuhörer berührt. \nDie Musik von Mister Saxr schafft eine einzigartige Atmosphäre\, die den Abend unvergesslich macht. Unter dem funkelnden Sternenhimmel und begleitet vom sanften Plätschern der Wellen des Zürichsees verlieren sich die Gäste in den Klängen seiner Live-Saxophonmusik. Es ist ein Moment der Ruhe und des Glücks\, der sie für einen Augenblick den Alltag vergessen lässt und sie ganz im Hier und Jetzt verweilen lässt. \nUnd so spielt Mister Saxr bis in die späten Abendstunden hinein\, seine Musik verschmilzt mit der natürlichen Schönheit der Umgebung und schenkt den Gästen dieses Sommerfestes in Wald\, Zürich\, einen unvergesslichen Abend voller Harmonie und Freude.
URL:https://www.saxophonist-live.ch/saxofonist-blog/event/sommerliche-saxophon-mister-saxr-verzaubert-wald/
LOCATION:Wald\, 8636\, Schweiz
CATEGORIES:MisterSaxr Event
ATTACH;FMTTYPE=image/jpeg:https://www.saxophonist-live.ch/saxofonist-blog/wp-content/uploads/2024/08/MisterSaxr_BestOf_Event_Saxophonist_FischersFritz_163313-e1730383266352.jpg
END:VEVENT
END:VCALENDAR