BEGIN:VCALENDAR
VERSION:2.0
PRODID:-//MisterSaxr.ch | saxophonist-LIVE.ch | Blog | Firmenanlass Hochzeiten Events Saxofonist Musiker Saxophonist Schweiz Z&uuml;rich - ECPv6.15.8//NONSGML v1.0//EN
CALSCALE:GREGORIAN
METHOD:PUBLISH
X-ORIGINAL-URL:https://www.saxophonist-live.ch/saxofonist-blog
X-WR-CALDESC:Veranstaltungen für MisterSaxr.ch | saxophonist-LIVE.ch | Blog | Firmenanlass Hochzeiten Events Saxofonist Musiker Saxophonist Schweiz Z&uuml;rich
REFRESH-INTERVAL;VALUE=DURATION:PT1H
X-Robots-Tag:noindex
X-PUBLISHED-TTL:PT1H
BEGIN:VTIMEZONE
TZID:Europe/Zurich
BEGIN:DAYLIGHT
TZOFFSETFROM:+0100
TZOFFSETTO:+0200
TZNAME:CEST
DTSTART:20230326T010000
END:DAYLIGHT
BEGIN:STANDARD
TZOFFSETFROM:+0200
TZOFFSETTO:+0100
TZNAME:CET
DTSTART:20231029T010000
END:STANDARD
BEGIN:DAYLIGHT
TZOFFSETFROM:+0100
TZOFFSETTO:+0200
TZNAME:CEST
DTSTART:20240331T010000
END:DAYLIGHT
BEGIN:STANDARD
TZOFFSETFROM:+0200
TZOFFSETTO:+0100
TZNAME:CET
DTSTART:20241027T010000
END:STANDARD
BEGIN:DAYLIGHT
TZOFFSETFROM:+0100
TZOFFSETTO:+0200
TZNAME:CEST
DTSTART:20250330T010000
END:DAYLIGHT
BEGIN:STANDARD
TZOFFSETFROM:+0200
TZOFFSETTO:+0100
TZNAME:CET
DTSTART:20251026T010000
END:STANDARD
END:VTIMEZONE
BEGIN:VEVENT
DTSTART;TZID=Europe/Zurich:20240917T170000
DTEND;TZID=Europe/Zurich:20240917T210000
DTSTAMP:20260421T075033
CREATED:20240223T125443Z
LAST-MODIFIED:20240223T125443Z
UID:3773-1726592400-1726606800@www.saxophonist-live.ch
SUMMARY:Golfturnier @ Dolder Golfclub Zürich
DESCRIPTION:Für Mister Saxr ist der Dolder Golfclub ein bestbekannter Ort. Mit seinem unvergleichlichen Saxophonspiel hat er bereits mehrmals das Publikum auf dem malerischen Gelände des Clubs verzaubert. Bei dieser Gelegenheit wird er erneut an einem Golfturnier spielen. Mit seiner charismatischen Präsenz und seinem virtuosen Spiel wird Mister Saxr zweifellos das Publikum in seinen Bann ziehen und für unvergessliche Momente sorgen. Seine Auftritte zeichnen sich durch eine meisterhafte Fusion von Jazz\, Funk und Soul aus\, die die Atmosphäre des Clubs mit einem Hauch von Eleganz und Lebendigkeit erfüllen. \nDer Dolder Golfclub\, mit seiner malerischen Lage oberhalb von Zürich\, bietet die ideale Kulisse für dieses prestigeträchtige Turnier. Umgeben von einer atemberaubenden Landschaft und erstklassigen Golfanlagen\, erleben die Teilnehmer hier ein unvergleichliches Golfspiel. \nDer Zürcher Saxofonist berührt als leidenschaftlicher Musiker mit seinen sanften Saxklängen. Sein breites LIVE Saxophon Repertoire reicht von Bossa Nova\, Jazz-Standards\, Pop-Klassikern\, Lovesongs bis zu Disco-Krachern. Mister Saxr erfüllt als LIVE Saxofonist Musikwünsche\, engagieren und buchen sie Mister Saxr gesucht in Zürich\, Basel\, Bern\, Winterthur\, Luzern\, St. Gallen\, Frauenfeld\, Olten\, Aarau\, Baden\, Thun\, Schaffhausen\, Chur\, Uster\, Zug\, Baden\, Wil\, Flims-Laax-Falera und in der ganzen Schweiz. \nMit einem anspruchsvollen Golfturnier und einem exquisiten Gastronomieangebot bietet sich im Dolder Golfclub Zürich ein unvergessliches Erlebnis\, das Sport\, Genuss und Geselligkeit perfekt vereint. Umgeben von grünen Fairways und einer malerischen Landschaft bietet der Club eine idyllische Kulisse für Sport- und Kulturveranstaltungen. \nDie Teilnahme von Mister Saxr an der Golfturnier verspricht eine einzigartige Verbindung von Musik und Sport\, die die Sinne belebt und die Herzen der Zuschauer höher schlagen lässt. Es ist eine Gelegenheit\, die Schönheit des Golfsports und die Magie der Musik in harmonischem Einklang zu erleben\, während Mister Saxr seine einzigartige Note in die Veranstaltung einbringt.
URL:https://www.saxophonist-live.ch/saxofonist-blog/event/golfturnier-dolder-golfclub-zuerich/
LOCATION:Dolder Golfclub Zürich\, Kurhausstrasse 66\, Zürich\, Zürich\, 8032\, Schweiz
CATEGORIES:MisterSaxr Event
ATTACH;FMTTYPE=image/jpeg:https://www.saxophonist-live.ch/saxofonist-blog/wp-content/uploads/2022/07/Wedding_MisterSaxr_Saxophonist.jpg
END:VEVENT
BEGIN:VEVENT
DTSTART;TZID=Europe/Zurich:20240927T150000
DTEND;TZID=Europe/Zurich:20240927T220000
DTSTAMP:20260421T075033
CREATED:20240628T133233Z
LAST-MODIFIED:20240628T133527Z
UID:3899-1727449200-1727474400@www.saxophonist-live.ch
SUMMARY:Trio live in Winterthur: Mister Saxr\, Isabel Florido & Gino Todesco
DESCRIPTION:Am 27. September 2024 findet in Winterthur der Tag der offenen Tür eines BNI Mitglieds statt\, und wir freuen uns\, einen besonderen musikalischen Höhepunkt anzukündigen: Mister Saxr wird im Trio zusammen mit der talentierten Sängerin Isabel Florido und dem virtuosen Pianisten Gino Todesco auftreten. Diese herausragenden Künstler versprechen einen Abend voller musikalischer Magie und unvergesslicher Momente. \nMister Saxr ist ein professioneller Saxophonist. Er lebt in Zürich. Die Leidenschaft zum Saxofon und zu Saxophonklängen machen das Angebot von Mister Saxr einzigartig. Die Liebe zum Sax spürt man. Dazu kommt\, dass Mister Saxr seit Jahren als gefragter Kommunikationsexperte für zahlreiche Events\, Produkte-Lancierungen und auch Medienauftritte verantwortlich war und/oder selber Teil davon war. Die Kombination zwischen Musik der Extraklasse und einem fundierten Verständnis für Veranstaltungen machen Mister Saxr als Teil Ihres Events einzigartig. Seine Leidenschaft für das Saxophon und seine Fähigkeit\, Emotionen durch Musik zu vermitteln\, machen ihn zu einem gefragten Künstler in der Schweiz und darüber hinaus. Bei seinem Auftritt am Tag der offenen Tür eines BNI Mitglieds wird Mister Saxr eine Mischung aus Jazz\, Pop und klassischer Musik präsentieren\, die sowohl Kenner als auch Neulinge begeistern wird. \nEine vielseitige Sängerin mit einer kraftvollen und gefühlvollen Stimme\, wird Mister Saxr bei diesem besonderen Event begleiten: Isabel Florido\, eine Schweizer Moderatorin\, Sprecherin\, Schauspielerin und Auftrittstrainerin. Sie erlangte in den späten 90er Jahren grosse Bekanntheit durch ihre Rolle als „Lona Dee“ in der RTL-Serie “Unter Uns”. Seit ihrem 16. Lebensjahr steht Isabel auf der Bühne und hat zahlreiche Engagements für TV-Sender wie RTL\, ZDF und SF1 sowie für internationale Unternehmen absolviert. Isabel ist bekannt für ihre Fähigkeit\, mit ihrer Stimme eine tiefe emotionale Verbindung zum Publikum herzustellen. Ihre musikalische Bandbreite reicht von Jazz und Pop bis hin zu Musical und Klassik. Ihre Präsenz und ihr stimmliches Talent machen jeden Auftritt zu einem besonderen Erlebnis. \nGino Todesco\, ein Pianist von aussergewöhnlichem Können\, komplettiert das Trio. Mit seiner beeindruckenden Technik und seinem tiefen musikalischen Verständnis bringt er eine besondere Note in jedes Stück\, das er spielt. Gino ist in der Lage\, das Publikum sowohl mit klassischen als auch modernen Stücken zu begeistern und schafft es\, mit seinem Spiel eine einzigartige Atmosphäre zu erzeugen. \nBNI\, Business Network International\, ist ein weltweit tätiges Netzwerk\, das Unternehmern hilft\, Geschäftskontakte zu knüpfen und ihre Unternehmen durch Empfehlungsmarketing zu wachsen. Die Organisation legt grossen Wert auf die Qualität der Beziehungen und die Unterstützung ihrer Mitglieder. Der Tag der offenen Tür eines BNI Mitglieds in Winterthur bietet eine hervorragende Gelegenheit\, mehr über die Vorteile einer BNI-Mitgliedschaft zu erfahren\, neue Kontakte zu knüpfen und sich von inspirierenden Vorträgen und Präsentationen inspirieren zu lassen. \nDie Veranstaltung findet in Winterthur statt\, einer Stadt\, die bekannt ist für ihre reiche Kultur und lebendige Kunstszene. Winterthur bietet den perfekten Rahmen für ein solches Event\, bei dem Musik und Networking im Mittelpunkt stehen. Besucher können sich auf einen Tag voller interessanter Begegnungen und inspirierender Erlebnisse freuen. \nWir laden Sie herzlich ein\, diesen besonderen Tag mit uns zu erleben und die musikalischen Darbietungen von Mister Saxr\, Isabel Florido und Gino Todesco zu geniessen. Seien Sie dabei\, wenn sich Türen öffnen und neue Möglichkeiten entstehen!
URL:https://www.saxophonist-live.ch/saxofonist-blog/event/trio-live-in-winterthur-mister-saxr-isabel-florido-gino-todesco/
LOCATION:Winterthur
CATEGORIES:MisterSaxr Event
ATTACH;FMTTYPE=image/jpeg:https://www.saxophonist-live.ch/saxofonist-blog/wp-content/uploads/2024/06/foto_083-small.jpg
END:VEVENT
END:VCALENDAR