BEGIN:VCALENDAR
VERSION:2.0
PRODID:-//MisterSaxr.ch | saxophonist-LIVE.ch | Blog | Firmenanlass Hochzeiten Events Saxofonist Musiker Saxophonist Schweiz Z&uuml;rich - ECPv6.15.8//NONSGML v1.0//EN
CALSCALE:GREGORIAN
METHOD:PUBLISH
X-WR-CALNAME:MisterSaxr.ch | saxophonist-LIVE.ch | Blog | Firmenanlass Hochzeiten Events Saxofonist Musiker Saxophonist Schweiz Z&uuml;rich
X-ORIGINAL-URL:https://www.saxophonist-live.ch/saxofonist-blog
X-WR-CALDESC:Veranstaltungen für MisterSaxr.ch | saxophonist-LIVE.ch | Blog | Firmenanlass Hochzeiten Events Saxofonist Musiker Saxophonist Schweiz Z&uuml;rich
REFRESH-INTERVAL;VALUE=DURATION:PT1H
X-Robots-Tag:noindex
X-PUBLISHED-TTL:PT1H
BEGIN:VTIMEZONE
TZID:Europe/Zurich
BEGIN:DAYLIGHT
TZOFFSETFROM:+0100
TZOFFSETTO:+0200
TZNAME:CEST
DTSTART:20240331T010000
END:DAYLIGHT
BEGIN:STANDARD
TZOFFSETFROM:+0200
TZOFFSETTO:+0100
TZNAME:CET
DTSTART:20241027T010000
END:STANDARD
BEGIN:DAYLIGHT
TZOFFSETFROM:+0100
TZOFFSETTO:+0200
TZNAME:CEST
DTSTART:20250330T010000
END:DAYLIGHT
BEGIN:STANDARD
TZOFFSETFROM:+0200
TZOFFSETTO:+0100
TZNAME:CET
DTSTART:20251026T010000
END:STANDARD
BEGIN:DAYLIGHT
TZOFFSETFROM:+0100
TZOFFSETTO:+0200
TZNAME:CEST
DTSTART:20260329T010000
END:DAYLIGHT
BEGIN:STANDARD
TZOFFSETFROM:+0200
TZOFFSETTO:+0100
TZNAME:CET
DTSTART:20261025T010000
END:STANDARD
END:VTIMEZONE
BEGIN:VEVENT
DTSTART;TZID=Europe/Zurich:20250110T180000
DTEND;TZID=Europe/Zurich:20250110T220000
DTSTAMP:20260421T013446
CREATED:20241003T115906Z
LAST-MODIFIED:20241003T115906Z
UID:4011-1736532000-1736546400@www.saxophonist-live.ch
SUMMARY:Abschiedsabend
DESCRIPTION:Am Freitag\, den 10. Januar 2025\, steht ein besonderes Ereignis bevor: Mister Saxr\, der talentierte Saxophonist aus Zürich\, wird im eleganten Signau Guest House in Zürich\, einen musikalischen Abschiedsabend für die renommierte Schulthess Klinik gestalten. Dieser Abend verspricht nicht nur emotionale Momente\, sondern auch ein musikalisches Erlebnis der Extraklasse zu werden. \nMister Saxr ist bekannt für seine Fähigkeit\, das Saxophon auf eine Weise zum Leben zu erwecken\, die tief unter die Haut geht. Mit seiner einzigartigen Mischung aus Jazz\, Pop und Lounge-Musik schafft er es\, jedes Publikum in seinen Bann zu ziehen. Ob auf grossen Bühnen oder bei intimen Anlässen\, Mister Saxr versteht es\, die richtige Stimmung zu erzeugen. Für den Abschiedsabend der Schulthess Klinik hat er ein spezielles Repertoire zusammengestellt\, das sowohl die Vergangenheit ehrt als auch einen Blick in die Zukunft wirft – voller Emotionen und Hoffnung. \nDas Signau Guest House\, in dem dieses besondere Event stattfindet\, ist eine wahre Perle in Zürich. Mit seiner eleganten und zugleich gemütlichen Atmosphäre bietet es den perfekten Rahmen für solch einen festlichen und zugleich emotionalen Anlass. Die exklusive Lage in der Signaustrasse 6\, nur einen Steinwurf vom Zürichsee entfernt\, verleiht dem Abend eine besondere Note. In dieser stilvollen Umgebung wird Mister Saxrs Musik die Räume füllen und die Gäste auf eine unvergessliche musikalische Reise mitnehmen. \nAls langjähriger Begleiter verschiedenster Events in Zürich kennt Mister Saxr die Stadt und ihre Menschen bestens. Seine musikalischen Beiträge bei exklusiven Veranstaltungen\, Firmenevents und privaten Feiern sind unvergessen. \nDie Verbindung zwischen Mister Saxrs kraftvoller Musik und dem charmanten Ambiente des Signau Guest House verspricht einen Abend\, der allen Anwesenden lange in Erinnerung bleiben wird.
URL:https://www.saxophonist-live.ch/saxofonist-blog/event/abschiedsabend/
LOCATION:Signau House & Garden Boutique Hotel Zürich\, Signaustrasse 6\, Zürich\, 8008\, Schweiz
CATEGORIES:MisterSaxr Event
ATTACH;FMTTYPE=image/jpeg:https://www.saxophonist-live.ch/saxofonist-blog/wp-content/uploads/2018/09/MISTERSAXR_7409.jpg
END:VEVENT
BEGIN:VEVENT
DTSTART;TZID=Europe/Zurich:20250129T180000
DTEND;TZID=Europe/Zurich:20250129T220000
DTSTAMP:20260421T013446
CREATED:20250123T142235Z
LAST-MODIFIED:20250128T100113Z
UID:4071-1738173600-1738188000@www.saxophonist-live.ch
SUMMARY:Ein unvergesslicher Abend mit Mister Saxr und BMW Schweiz im The Dolder Grand
DESCRIPTION:Diese Veranstaltung wurde kurzfristig abgesagt. \nAm 29. Januar 2025 wird das elegante Hotel The Dolder Grand in Zürich Schauplatz eines besonderen musikalischen Moments. Mister Saxr\, bekannt für seine mitreissenden Saxophonklänge\, wird bei einem Event der BMW Schweiz Gruppe für eine stimmungsvolle musikalische Begleitung sorgen. Vor der beeindruckenden Kulisse des Zürichbergs wird seine Musik die Atmosphäre des Abends auf einzigartige Weise bereichern. \nDie BMW Schweiz Gruppe\, zu der neben BMW auch renommierte Marken wie Rolls-Royce und MINI gehören\, steht für Innovation\, Dynamik und höchste Qualität – Werte\, die auch an diesem besonderen Abend im Vordergrund stehen. Als führender Automobilhersteller kombiniert die BMW Gruppe modernes Design mit zukunftsweisender Technologie und wird ihre Marken bei diesem Anlass auf elegante Weise präsentieren. Mister Saxr passt mit seiner musikalischen Vielseitigkeit perfekt zu den Idealen der BMW Schweiz Gruppe. Seine modernen\, dynamischen und doch emotionalen Saxophon-Performances sind wie geschaffen dafür\, die Werte dieser Marken musikalisch zu untermalen. \nDas The Dolder Grand\, eines der exklusivsten Hotels der Schweiz\, bietet mit seiner Lage am Zürichberg den perfekten Rahmen für diesen hochkarätigen Firmenanlass. Die elegante Architektur des Hotels\, die beeindruckende Aussicht über die Stadt Zürich und die erlesene Kulinarik schaffen eine Atmosphäre von Luxus und Exklusivität. Mister Saxr wird mit seinem Saxophon diese einmalige Stimmung aufnehmen und verstärken\, indem er die Gäste mit seinem einzigartigen Mix aus Jazz\, Lounge und modernen Klängen begeistert. \nMister Saxr ist bekannt für seine Fähigkeit\, jede Veranstaltung zu einem besonderen Erlebnis zu machen. Ob als Hauptact oder dezente musikalische Begleitung – er versteht es\, mit seinem Saxophon eine Verbindung zwischen den Gästen und der Musik herzustellen. Auch an diesem Abend im The Dolder Grand wird er mit seinen Performances einen bleibenden Eindruck hinterlassen und den Firmenanlass der BMW Schweiz Gruppe zu einem Highlight im Eventkalender machen. \nDie Gäste der BMW Schweiz Gruppe dürfen sich auf eine stimmungsvolle Atmosphäre freuen\, die durch die einzigartigen Klänge von Mister Saxr zu einem unvergesslichen Erlebnis wird.
URL:https://www.saxophonist-live.ch/saxofonist-blog/event/ein-unvergesslicher-abend-mit-mister-saxr-und-bmw-schweiz-im-the-dolder-grand/
LOCATION:The Dolder Grand\, Kurhausstrasse 65\, Zürich\, 8032\, Schweiz
CATEGORIES:MisterSaxr Event
ATTACH;FMTTYPE=image/jpeg:https://www.saxophonist-live.ch/saxofonist-blog/wp-content/uploads/2023/08/Mister_Saxr_Saxophonist_Sax_Schweiz_Zuerich_Events_Musik.jpg
END:VEVENT
END:VCALENDAR