BEGIN:VCALENDAR
VERSION:2.0
PRODID:-//MisterSaxr.ch | saxophonist-LIVE.ch | Blog | Firmenanlass Hochzeiten Events Saxofonist Musiker Saxophonist Schweiz Z&uuml;rich - ECPv6.15.8//NONSGML v1.0//EN
CALSCALE:GREGORIAN
METHOD:PUBLISH
X-WR-CALNAME:MisterSaxr.ch | saxophonist-LIVE.ch | Blog | Firmenanlass Hochzeiten Events Saxofonist Musiker Saxophonist Schweiz Z&uuml;rich
X-ORIGINAL-URL:https://www.saxophonist-live.ch/saxofonist-blog
X-WR-CALDESC:Veranstaltungen für MisterSaxr.ch | saxophonist-LIVE.ch | Blog | Firmenanlass Hochzeiten Events Saxofonist Musiker Saxophonist Schweiz Z&uuml;rich
REFRESH-INTERVAL;VALUE=DURATION:PT1H
X-Robots-Tag:noindex
X-PUBLISHED-TTL:PT1H
BEGIN:VTIMEZONE
TZID:Europe/Zurich
BEGIN:DAYLIGHT
TZOFFSETFROM:+0100
TZOFFSETTO:+0200
TZNAME:CEST
DTSTART:20240331T010000
END:DAYLIGHT
BEGIN:STANDARD
TZOFFSETFROM:+0200
TZOFFSETTO:+0100
TZNAME:CET
DTSTART:20241027T010000
END:STANDARD
BEGIN:DAYLIGHT
TZOFFSETFROM:+0100
TZOFFSETTO:+0200
TZNAME:CEST
DTSTART:20250330T010000
END:DAYLIGHT
BEGIN:STANDARD
TZOFFSETFROM:+0200
TZOFFSETTO:+0100
TZNAME:CET
DTSTART:20251026T010000
END:STANDARD
BEGIN:DAYLIGHT
TZOFFSETFROM:+0100
TZOFFSETTO:+0200
TZNAME:CEST
DTSTART:20260329T010000
END:DAYLIGHT
BEGIN:STANDARD
TZOFFSETFROM:+0200
TZOFFSETTO:+0100
TZNAME:CET
DTSTART:20261025T010000
END:STANDARD
END:VTIMEZONE
BEGIN:VEVENT
DTSTART;TZID=Europe/Zurich:20251127T180000
DTEND;TZID=Europe/Zurich:20251127T220000
DTSTAMP:20260420T114059
CREATED:20250930T162320Z
LAST-MODIFIED:20250930T162320Z
UID:4327-1764266400-1764280800@www.saxophonist-live.ch
SUMMARY:Festliche Klänge zum Adventsbeginn – Bella C & Mister Saxr live in Zürich
DESCRIPTION:Zürich eröffnet die Adventszeit jedes Jahr mit einem besonderen Moment: Wenn um Punkt 18.00 Uhr die Lichter der Bahnhofstrasse erstrahlen\, beginnt eine magische Phase voller Erwartung\, Begegnung und festlicher Stimmung. Mitten in diesem Zauber stehen Bella C & Mister Saxr\, die den Auftakt mit ihrem Duo aus Gesang und Saxophon begleiten und dem Abend eine ganz eigene Seele verleihen. \nAm Tag der grossen Eröffnung sorgen Bella C & Mister Saxr mit ihrem harmonischen Zusammenspiel dafür\, dass die ersten Töne des Advents genauso unvergesslich sind wie das Licht von „Lucy“\, der berühmten Zürcher Weihnachtsbeleuchtung. Ihre Musik ist elegant\, feinfühlig und voller Wärme – sie trägt die Stimmung des Moments\, ohne sich aufzudrängen. Leise und stilvoll verschmilzt der Klang mit dem Glanz der tausenden Lichter\, die sich wie ein funkelndes Dach über die Bahnhofstrasse spannen. \n„Lucy“\, inspiriert vom Beatles-Song Lucy in the Sky with Diamonds\, ist weit mehr als ein Lichterschmuck. Sie ist Symbol für den Start in die Weihnachtszeit und für viele Zürcherinnen und Zürcher ein fest verankerter Höhepunkt des Jahres. Tausende LED-Lichter schweben fast schwerelos über der Strasse\, wecken Staunen\, Fantasie und ein Gefühl der Geborgenheit. Diese Emotionen spiegeln sich in der Musik von Bella C & Mister Saxr wider: Bella C mit ihrer klaren\, ausdrucksstarken Stimme\, Mister Saxr mit dem warmen Klang seines Selmer Supreme Saxophons. Gemeinsam erzeugen sie Klangbilder\, die berühren und verbinden. \nNur wenige Schritte entfernt öffnet der Münsterhof seinen Weihnachtsmarkt. Umrahmt von den historischen Kirchen Grossmünster\, Fraumünster und St. Peter entsteht ein Ort\, an dem Zürich Tradition\, Licht und Begegnung miteinander verbindet. Marktstände\, Glühwein\, Kinderlachen und der besondere Zauber eines geschützten Platzes schaffen ein Ambiente\, das Herz und Sinne gleichermassen anspricht. \nHier steht auch die neue Kulturbühne\, die in Zusammenarbeit mit dem Konservatorium Zürich entstanden ist. Sie verwandelt den Weihnachtsmarkt in eine Bühne für Kunst und Musik. Bella C & Mister Saxr treten auch hier auf – live\, mitten unter den Menschen\, mitten im Herz der Stadt. Ihr Duo füllt den Platz mit Klang\, ohne ihn zu überladen. Die Musik bringt Ruhe und Tiefe in das geschäftige Treiben und schafft Momente der Nähe inmitten der festlichen Menge. \nBella C & Mister Saxr begleiten die Eröffnung der Zürcher Weihnachtsbeleuchtung nicht nur musikalisch. Sie machen aus dem offiziellen Start in die Adventszeit ein Erlebnis\, das berührt. Zwischen Licht\, Musik und Stadtgeschichte entsteht ein Abend\, der Zürichs Adventszauber einzigartig macht – ein Moment\, der bleibt.
URL:https://www.saxophonist-live.ch/saxofonist-blog/event/festliche-klaenge-zum-adventszeit-bella-c-mister-saxr-live-in-zuerich/
LOCATION:Weihnachtsmarkt Münsterhof\, Kirche Fraumünster Münsterhof 2\, Zürich\, 8001
CATEGORIES:MisterSaxr Event
ATTACH;FMTTYPE=image/jpeg:https://www.saxophonist-live.ch/saxofonist-blog/wp-content/uploads/2025/09/MisterSaxr_BellaC_LiveMusic_Roman_3332NEU-MR-e1759249389214.jpg
END:VEVENT
END:VCALENDAR