BEGIN:VCALENDAR
VERSION:2.0
PRODID:-//MisterSaxr.ch | saxophonist-LIVE.ch | Blog | Firmenanlass Hochzeiten Events Saxofonist Musiker Saxophonist Schweiz Z&uuml;rich - ECPv6.15.8//NONSGML v1.0//EN
CALSCALE:GREGORIAN
METHOD:PUBLISH
X-ORIGINAL-URL:https://www.saxophonist-live.ch/saxofonist-blog
X-WR-CALDESC:Veranstaltungen für MisterSaxr.ch | saxophonist-LIVE.ch | Blog | Firmenanlass Hochzeiten Events Saxofonist Musiker Saxophonist Schweiz Z&uuml;rich
REFRESH-INTERVAL;VALUE=DURATION:PT1H
X-Robots-Tag:noindex
X-PUBLISHED-TTL:PT1H
BEGIN:VTIMEZONE
TZID:Europe/Zurich
BEGIN:DAYLIGHT
TZOFFSETFROM:+0100
TZOFFSETTO:+0200
TZNAME:CEST
DTSTART:20240331T010000
END:DAYLIGHT
BEGIN:STANDARD
TZOFFSETFROM:+0200
TZOFFSETTO:+0100
TZNAME:CET
DTSTART:20241027T010000
END:STANDARD
BEGIN:DAYLIGHT
TZOFFSETFROM:+0100
TZOFFSETTO:+0200
TZNAME:CEST
DTSTART:20250330T010000
END:DAYLIGHT
BEGIN:STANDARD
TZOFFSETFROM:+0200
TZOFFSETTO:+0100
TZNAME:CET
DTSTART:20251026T010000
END:STANDARD
BEGIN:DAYLIGHT
TZOFFSETFROM:+0100
TZOFFSETTO:+0200
TZNAME:CEST
DTSTART:20260329T010000
END:DAYLIGHT
BEGIN:STANDARD
TZOFFSETFROM:+0200
TZOFFSETTO:+0100
TZNAME:CET
DTSTART:20261025T010000
END:STANDARD
END:VTIMEZONE
BEGIN:VEVENT
DTSTART;TZID=Europe/Zurich:20251203T183000
DTEND;TZID=Europe/Zurich:20251203T230000
DTSTAMP:20260420T100225
CREATED:20250930T204354Z
LAST-MODIFIED:20250930T204354Z
UID:4332-1764786600-1764802800@www.saxophonist-live.ch
SUMMARY:Rotary-Club Weihnachtsessen in der Mühle Tiefenbrunnen mit Mister Saxr
DESCRIPTION:Die Adventszeit ist die Zeit der Begegnung\, des Innehaltens und des Miteinanders. Für den Rotary-Club bedeutet das Weihnachtsessen in der Mühle Tiefenbrunnen ein besonderer Höhepunkt des Jahres. Es ist die Gelegenheit\, gemeinsam auf das vergangene Jahr zurückzublicken\, Dankbarkeit zu zeigen und neue Pläne zu schmieden. 2026 wird dieser festliche Anlass musikalisch begleitet von Mister Saxr\, der mit seinem Saxophon für eine Atmosphäre sorgt\, die Wärme\, Eleganz und Besinnlichkeit verbindet. \nDer Rotary-Club ist ein internationales Netzwerk von Persönlichkeiten aus Wirtschaft\, Kultur und Gesellschaft\, die sich dem Dienst an der Gemeinschaft verschrieben haben. Über 1\,4 Millionen Mitglieder in mehr als 46.000 Clubs weltweit engagieren sich ehrenamtlich für soziale Projekte\, Bildung\, Gesundheit und den interkulturellen Austausch. Das Motto „Service above Self“ – selbstloses Dienen – steht im Zentrum dieser Bewegung. Auch in Zürich leistet der Rotary-Club wertvolle Arbeit\, unterstützt regionale Initiativen und trägt dazu bei\, das gesellschaftliche Leben aktiv zu bereichern. \nDas Weihnachtsessen in der Mühle Tiefenbrunnen vereint diese Werte in einem festlichen Rahmen. Die historische Mühle\, direkt am Zürichsee gelegen\, bietet eine einzigartige Kulisse: rustikal und stilvoll zugleich\, mit einer besonderen Wärme\, die perfekt zur Vorweihnachtszeit passt. Bei Kerzenschein und kulinarischen Köstlichkeiten erleben die Mitglieder des Rotary-Clubs einen Abend\, der Gemeinschaft und Zusammenhalt in den Mittelpunkt stellt. \nMister Saxr ergänzt diesen Anlass auf musikalische Weise. Mit seinem Selmer Supreme Saxophon verleiht er dem Abend eine zusätzliche Dimension. Zu Beginn erklingen leise\, sanfte Töne\, die die Gäste beim Apéro begleiten. Später während des Essens schafft er mit bekannten Weihnachtsklassikern\, Jazzballaden und romantischen Melodien eine festliche Atmosphäre. Seine Musik trägt\, ohne zu dominieren\, und gibt den Gesprächen einen warmen\, verbindenden Rahmen. \nDie Parallelen zwischen den Werten des Rotary-Clubs und Mister Saxrs Musik sind unverkennbar. Rotary steht für Verantwortung\, Engagement und das Streben nach Harmonie zwischen Menschen. Mister Saxr vermittelt in seiner Musik dieselben Ideale: Er hört zu\, passt sich an die Stimmung an\, bringt Menschen zusammen. Sein Spiel ist geprägt von Präzision und Gefühl\, und genau das macht es so passend für einen Anlass\, bei dem Werte und Gemeinschaft im Mittelpunkt stehen. \nWenn der Abend langsam ausklingt\, fasst Mister Saxr mit seinen Melodien die Stimmung des Abends zusammen: Dankbarkeit\, Freude und die Hoffnung auf ein neues Jahr voller Chancen. Die Gäste verlassen die Mühle Tiefenbrunnen mit dem Gefühl\, Teil von etwas Grösserem gewesen zu sein – getragen von den Idealen des Rotary-Clubs und den Klängen von Mister Saxr. \nDas Rotary-Club Weihnachtsessen 2026 wird so zu einer Feier der Gemeinschaft\, der Werte und der Musik – ein Abend\, der Herz und Verstand gleichermassen anspricht.
URL:https://www.saxophonist-live.ch/saxofonist-blog/event/rotary-club-weihnachtsessen-in-der-muehle-tiefenbrunnen-mit-mister-saxr/
LOCATION:Kornsilo Tiefenbrunnen\, Seefeldstrasse 219\, Zürich-Riesbach\, 8008
CATEGORIES:MisterSaxr Event
ATTACH;FMTTYPE=image/jpeg:https://www.saxophonist-live.ch/saxofonist-blog/wp-content/uploads/2023/08/Mister_Saxr_Saxophonist_Sax_Schweiz_Zuerich_Events_Musik.jpg
END:VEVENT
BEGIN:VEVENT
DTSTART;TZID=Europe/Zurich:20251204T150000
DTEND;TZID=Europe/Zurich:20251204T220000
DTSTAMP:20260420T100225
CREATED:20250930T204946Z
LAST-MODIFIED:20250930T204946Z
UID:4336-1764860400-1764885600@www.saxophonist-live.ch
SUMMARY:Musikalischer Weihnachtszauber in zwei Facetten – Mister Saxr und Bella C
DESCRIPTION:Musikalischer Weihnachtszauber in zwei Facetten \nWenn der Duft von Glühwein durch die Gassen zieht\, Lichterketten über den Marktständen leuchten und Kinder mit roten Wangen staunend in den Himmel schauen\, dann ist er da – der Weihnachtszauber\, wie ihn nur die Adventszeit hervorbringen kann. Und mittendrin: Mister Saxr\, als Samichlaus\, mit seinem Saxophon. \nDer Samichlaus\, wie er in der Schweiz seit Jahrhunderten bekannt ist\, steht für Wärme\, Erinnerung und Erwartung. Er begleitet durch die dunklen Tage\, verkörpert Weisheit und Güte – und hat immer einen Hauch Geheimnis. Mister Saxr greift diese Tradition auf\, aber statt mit einem Sack voller Nüsse tritt er mit seinem Saxophon auf und schenkt den Menschen Musik. \nIn rotem Mantel bewegt er sich durch den Markt\, spielt bekannte Weihnachtsklassiker\, zarte Eigenkompositionen und vertraute Melodien. Kein lautes Spektakel\, kein Bühnenauftritt – vielmehr eine stille Begegnung zwischen Musiker und Publikum. Kinder bleiben staunend stehen\, Erwachsene halten für einen Moment inne. Ein paar Töne reichen\, und die Szenerie verändert sich: Aus Alltag wird Advent\, aus Lärm wird Stille\, aus Vorbeigehen wird Zuhören. \nDie Musik von Mister Saxr als Samichlaus schafft Verbindung. Zwischen Generationen\, zwischen Tradition und Gegenwart\, zwischen Menschen\, die sich für einen Augenblick im Klang begegnen. Sie ist wie ein kleines Märchen\, erzählt nicht mit Worten\, sondern mit Tönen – und berührt Herz und Seele. Für die Kinder bedeutet dieser Moment Magie: ein echter Samichlaus\, der nicht nur Süsses bringt\, sondern Musik schenkt. Für die Erwachsenen ist es ein stilles Geschenk – ein Augenblick der Entschleunigung\, der bleibt. \nDoch der Abend endet hier nicht. Wenn die Marktlichter langsam erlöschen\, beginnt eine zweite Bühne: das Duo Bella C & Mister Saxr. Gemeinsam gestalten sie einen Abend\, der den Weihnachtszauber in eine neue Dimension hebt. Bella C berührt mit ihrer warmen Stimme\, die mühelos zwischen Pop\, Jazz und Soul wechselt. Mister Saxr begleitet sie mit seinem Selmer Supreme Saxophon\, mal sanft im Hintergrund\, mal als gleichwertiger Partner im musikalischen Dialog. \nDiese Kombination schafft eine Atmosphäre\, die festlich und zugleich intim ist. Während die Gäste den Abend bei einem Glas Wein oder einem festlichen Dinner ausklingen lassen\, erklingen Balladen\, Weihnachtslieder und moderne Klassiker. Bella C & Mister Saxr verstehen es\, Stimmungen zu lesen und ihr Repertoire so anzupassen\, dass jede Note passt. Ihre Musik verleiht dem Abend eine Eleganz\, die genau zur Adventszeit gehört: feierlich\, aber nicht überladen. \nSo zeigt sich der Weihnachtszauber in zwei Facetten: Am Tag als Samichlaus\, der mit seinem Saxophon kleine Wunder auf dem Markt schafft. Und am Abend als Duo mit Bella C\, das den Gästen mit Stimme und Saxophon ein musikalisches Fest schenkt. Zwei Seiten einer Botschaft\, die bleibt: Weihnachten ist dann am schönsten\, wenn Musik Herzen verbindet.
URL:https://www.saxophonist-live.ch/saxofonist-blog/event/musikalischer-weihnachtszauber-in-zwei-facetten-mister-saxr-und-bella-c/
LOCATION:Weihnachtsmarkt Münsterhof\, Kirche Fraumünster Münsterhof 2\, Zürich\, 8001
CATEGORIES:MisterSaxr Event
ATTACH;FMTTYPE=image/jpeg:https://www.saxophonist-live.ch/saxofonist-blog/wp-content/uploads/2025/09/MisterSaxr_BellaC_LiveMusic_Roman_3798NEU-MR.jpg
END:VEVENT
BEGIN:VEVENT
DTSTART;TZID=Europe/Zurich:20251206T180000
DTEND;TZID=Europe/Zurich:20251206T190000
DTSTAMP:20260420T100225
CREATED:20251127T084832Z
LAST-MODIFIED:20251127T084832Z
UID:4379-1765044000-1765047600@www.saxophonist-live.ch
SUMMARY:Private Geburtstagsfeier im Signau House & Garden mit Mister Saxr
DESCRIPTION:Eine private Geburtstagsfeier verdient einen Rahmen\, der besonders ist – stilvoll\, persönlich und atmosphärisch. Genau dieses Zusammenspiel entsteht\, wenn Mister Saxr im Signau House & Garden Boutique Hotel in Zürich spielt. Das elegante Haus an der Signaustrasse 6 gehört zu den charmantesten Adressen der Stadt und bietet mit seiner Architektur\, der ruhigen Lage und dem gepflegten Garten den idealen Ort für einen festlichen Abend im privaten Kreis. \nSchon beim Ankommen spüren die Gäste die besondere Wirkung dieses historischen Stadthauses. Das Signau House verbindet klassische Eleganz mit einer warmen\, einladenden Atmosphäre. Die hohen Räume\, die geschmackvolle Einrichtung und der Blick in den Garten schaffen ein Umfeld\, das Ruhe und Exklusivität ausstrahlt. Genau hier setzt Mister Saxr an: Mit seinem Selmer Supreme Saxophon füllt er die Räume nicht nur mit Musik\, sondern mit Stimmung. Sein Klang begleitet den Abend wie ein roter Faden und verleiht der Feier eine individuelle\, hochwertige Note. \nDer Abend beginnt häufig mit einem Apéro im Garten oder in einem der stilvollen Salons. Mister Saxr begleitet diese ersten Momente mit warmen\, leichten Melodien\, die sich sanft unter die Gespräche mischen. Seine Musik schafft Verbindung und entspannt die Atmosphäre – ideal\, um in ein festliches Erlebnis einzutauchen. Die besondere Akustik der Räume und der historische Charakter des Hauses harmonieren perfekt mit dem Klang seines Saxophons. \nEin weiterer Grund\, weshalb die Musik von Mister Saxr so gut in das Signau House passt\, liegt in seiner Erfahrung: In Zürich durfte er bereits in einigen der berühmtesten Hotels spielen – darunter das Dolder Grand Hotel\, das Baur au Lac\, das Park Hyatt oder die Häuser der Segmüller Collection wie das Carlton und der Adlisberg. Diese Auftritte prägen seinen Stil: elegant\, fein abgestimmt und immer dem Ort und der Stimmung angepasst. Diese Erfahrung bringt er auch an private Anlässe wie einen Geburtstag im Signau House mit – und genau das macht seinen Auftritt so besonders. \nWenn später das Dinner serviert wird oder die Feier in die Innenräume verlagert wird\, passt Mister Saxr seine Musik feinfühlig an. Seine Auswahl reicht von sanften Jazz-Balladen über gefühlvolle Pop-Interpretationen bis hin zu zeitlosen Klassikern\, die Erinnerungen wecken. Er liest den Raum\, spürt die Stimmung der Gäste und setzt musikalische Akzente\, die den Moment tragen\, ohne jemals aufdringlich zu sein. \nDie Gäste erleben einen Abend\, an dem Musik und Ort harmonisch ineinandergreifen. Die besondere Akustik\, das warme Licht und die klaren\, intensiven Klänge des Saxophons schaffen eine Atmosphäre\, die persönlich und gleichzeitig stilvoll ist. Mister Saxr gestaltet seinen Auftritt nicht als Programm\, sondern als musikalische Begleitung\, die jeden Abschnitt des Abends verbindet. \nWenn der Abend langsam ausklingt und der letzte Ton durch das Signau House schwebt\, bleibt eine Stimmung im Raum\, die berührt. Viele Gäste nehmen genau dieses Gefühl mit nach Hause: ein Abend\, der nicht nur gefeiert\, sondern erlebt wurde. Und ein Abend\, an dem Mister Saxr einmal mehr gezeigt hat\, wie viel Kraft und Eleganz Musik entfalten kann\, wenn sie mit Leidenschaft gespielt wird
URL:https://www.saxophonist-live.ch/saxofonist-blog/event/private-geburtstagsfeier-im-signau-house-garden-mit-mister-saxr/
LOCATION:Signau House & Garden Boutique Hotel Zürich\, Signaustrasse 6\, Zürich\, 8008\, Schweiz
CATEGORIES:MisterSaxr Event
ATTACH;FMTTYPE=image/jpeg:https://www.saxophonist-live.ch/saxofonist-blog/wp-content/uploads/2018/08/Mister_Saxr_Event-Saxophonist.jpeg
END:VEVENT
END:VCALENDAR