BEGIN:VCALENDAR
VERSION:2.0
PRODID:-//MisterSaxr.ch | saxophonist-LIVE.ch | Blog | Firmenanlass Hochzeiten Events Saxofonist Musiker Saxophonist Schweiz Z&uuml;rich - ECPv6.15.8//NONSGML v1.0//EN
CALSCALE:GREGORIAN
METHOD:PUBLISH
X-WR-CALNAME:MisterSaxr.ch | saxophonist-LIVE.ch | Blog | Firmenanlass Hochzeiten Events Saxofonist Musiker Saxophonist Schweiz Z&uuml;rich
X-ORIGINAL-URL:https://www.saxophonist-live.ch/saxofonist-blog
X-WR-CALDESC:Veranstaltungen für MisterSaxr.ch | saxophonist-LIVE.ch | Blog | Firmenanlass Hochzeiten Events Saxofonist Musiker Saxophonist Schweiz Z&uuml;rich
REFRESH-INTERVAL;VALUE=DURATION:PT1H
X-Robots-Tag:noindex
X-PUBLISHED-TTL:PT1H
BEGIN:VTIMEZONE
TZID:Europe/Zurich
BEGIN:DAYLIGHT
TZOFFSETFROM:+0100
TZOFFSETTO:+0200
TZNAME:CEST
DTSTART:20210328T010000
END:DAYLIGHT
BEGIN:STANDARD
TZOFFSETFROM:+0200
TZOFFSETTO:+0100
TZNAME:CET
DTSTART:20211031T010000
END:STANDARD
BEGIN:DAYLIGHT
TZOFFSETFROM:+0100
TZOFFSETTO:+0200
TZNAME:CEST
DTSTART:20220327T010000
END:DAYLIGHT
BEGIN:STANDARD
TZOFFSETFROM:+0200
TZOFFSETTO:+0100
TZNAME:CET
DTSTART:20221030T010000
END:STANDARD
BEGIN:DAYLIGHT
TZOFFSETFROM:+0100
TZOFFSETTO:+0200
TZNAME:CEST
DTSTART:20230326T010000
END:DAYLIGHT
BEGIN:STANDARD
TZOFFSETFROM:+0200
TZOFFSETTO:+0100
TZNAME:CET
DTSTART:20231029T010000
END:STANDARD
END:VTIMEZONE
BEGIN:VEVENT
DTSTART;TZID=Europe/Zurich:20220928T173000
DTEND;TZID=Europe/Zurich:20220928T220000
DTSTAMP:20260424T190204
CREATED:20220923T134919Z
LAST-MODIFIED:20220923T134919Z
UID:3291-1664386200-1664402400@www.saxophonist-live.ch
SUMMARY:Kundenanlass
DESCRIPTION:Mister Saxr\, der leidenschaftliche Saxophonist mit einem Flair für feine und sanfte Sax-Klänge und Melodien\, tritt zusammen mit der Sängerin Nyssina an einem privaten Anlass auf. Die Beiden sind durch ihre vielen gemeinsamen Auftritte bestens aufeinander abgestimmt. \nSie verfügen über ein breites Repertoire bestehend aus Bozza-Nova\, Smoth-Jazz\, Pop\, aktuellen Hits\, aber auch die schönsten Evergreens aller Zeiten werden durch sie neu interpretiert und in den schönsten Sax-Klängen wiedergegeben. \nDer Corporate-Event einer international tätigen Vermögensverwaltungs-Agentur findet im Zürcher Zunfthaus zur Zimmerleuten statt. Mitten in der Zürcher Altstadt steht das Haus zum roten Adler\, nahe dem Grossmünster\, direkt an der Limmat. Das prachtvolle und geschichtsträchtige Gebäude aus dem Mittelalter ist mit seinen historischen Räumen und einer wunderschönen Terrasse\, mit Blick auf den Fluss und das Fraumünster\, eine exklusive und ideale Location für Firmenanlässe jeglicher Art. Das gastronomische Angebot ist ebenfalls 1 Klasse. \nMister Saxr\, Mitglied der Zunft zur Hard\, wird die Gesellschaft musikalisch durch den Abend führen. Die sanften und weichen Klänge seines Instruments sind wie geschaffen um eine angenehme und stillvolle Atmosphäre zu schaffen\, die für alle Gäste spürbar sein wird.
URL:https://www.saxophonist-live.ch/saxofonist-blog/event/kundenanlass-3/
LOCATION:Zunfthaus zur Zimmerleuten\, Limmatquai 40\, Zürich\, 8001\, Schweiz
CATEGORIES:MisterSaxr Event
ATTACH;FMTTYPE=image/jpeg:https://www.saxophonist-live.ch/saxofonist-blog/wp-content/uploads/2016/10/saxophon.jpg
END:VEVENT
END:VCALENDAR